BEGIN:VCALENDAR
VERSION:2.0
PRODID:-//COLEGIO DE ENFERMERÍA DE SALAMANCA - ECPv6.15.17//NONSGML v1.0//EN
CALSCALE:GREGORIAN
METHOD:PUBLISH
X-WR-CALNAME:COLEGIO DE ENFERMERÍA DE SALAMANCA
X-ORIGINAL-URL:https://enfermeriasalamanca.com
X-WR-CALDESC:Eventos para COLEGIO DE ENFERMERÍA DE SALAMANCA
REFRESH-INTERVAL;VALUE=DURATION:PT1H
X-Robots-Tag:noindex
X-PUBLISHED-TTL:PT1H
BEGIN:VTIMEZONE
TZID:Europe/Madrid
BEGIN:DAYLIGHT
TZOFFSETFROM:+0100
TZOFFSETTO:+0200
TZNAME:CEST
DTSTART:20240331T010000
END:DAYLIGHT
BEGIN:STANDARD
TZOFFSETFROM:+0200
TZOFFSETTO:+0100
TZNAME:CET
DTSTART:20241027T010000
END:STANDARD
BEGIN:DAYLIGHT
TZOFFSETFROM:+0100
TZOFFSETTO:+0200
TZNAME:CEST
DTSTART:20250330T010000
END:DAYLIGHT
BEGIN:STANDARD
TZOFFSETFROM:+0200
TZOFFSETTO:+0100
TZNAME:CET
DTSTART:20251026T010000
END:STANDARD
BEGIN:DAYLIGHT
TZOFFSETFROM:+0100
TZOFFSETTO:+0200
TZNAME:CEST
DTSTART:20260329T010000
END:DAYLIGHT
BEGIN:STANDARD
TZOFFSETFROM:+0200
TZOFFSETTO:+0100
TZNAME:CET
DTSTART:20261025T010000
END:STANDARD
END:VTIMEZONE
BEGIN:VEVENT
DTSTART;VALUE=DATE:20250712
DTEND;VALUE=DATE:20250906
DTSTAMP:20260422T232802
CREATED:20250902T090228Z
LAST-MODIFIED:20250902T090228Z
UID:103839-1752278400-1757116799@enfermeriasalamanca.com
SUMMARY:OEP Servicio Gallego de Salud 2025
DESCRIPTION:ENFERMERO/A (1980 plz)\n\n\n\n\n\n 11 Julio 2025.- Convocatoria\nRESOLUCIÓN de 2 de julio de 2025\, de la Dirección General de Recursos Humanos\, por la que se convoca concurso-oposición para el ingreso en la categoría de enfermero/a. \n Convocatoria\n Solicitud \nSolicitudes del 12 de Julio al 5 de septiembre\nTasa: 38\,02 euros
URL:https://enfermeriasalamanca.com/oep-servicio-gallego-de-salud-2025/
CATEGORIES:Plazos de convocatoria
ATTACH;FMTTYPE=image/jpeg:https://enfermeriasalamanca.com/wp-content/uploads/2019/11/sergas_opos.jpg
END:VEVENT
END:VCALENDAR