BEGIN:VCALENDAR
VERSION:2.0
PRODID:-//COLEGIO DE ENFERMERÍA DE SALAMANCA - ECPv6.15.17//NONSGML v1.0//EN
CALSCALE:GREGORIAN
METHOD:PUBLISH
X-ORIGINAL-URL:https://enfermeriasalamanca.com
X-WR-CALDESC:Eventos para COLEGIO DE ENFERMERÍA DE SALAMANCA
REFRESH-INTERVAL;VALUE=DURATION:PT1H
X-Robots-Tag:noindex
X-PUBLISHED-TTL:PT1H
BEGIN:VTIMEZONE
TZID:Europe/Madrid
BEGIN:DAYLIGHT
TZOFFSETFROM:+0100
TZOFFSETTO:+0200
TZNAME:CEST
DTSTART:20240331T010000
END:DAYLIGHT
BEGIN:STANDARD
TZOFFSETFROM:+0200
TZOFFSETTO:+0100
TZNAME:CET
DTSTART:20241027T010000
END:STANDARD
BEGIN:DAYLIGHT
TZOFFSETFROM:+0100
TZOFFSETTO:+0200
TZNAME:CEST
DTSTART:20250330T010000
END:DAYLIGHT
BEGIN:STANDARD
TZOFFSETFROM:+0200
TZOFFSETTO:+0100
TZNAME:CET
DTSTART:20251026T010000
END:STANDARD
BEGIN:DAYLIGHT
TZOFFSETFROM:+0100
TZOFFSETTO:+0200
TZNAME:CEST
DTSTART:20260329T010000
END:DAYLIGHT
BEGIN:STANDARD
TZOFFSETFROM:+0200
TZOFFSETTO:+0100
TZNAME:CET
DTSTART:20261025T010000
END:STANDARD
END:VTIMEZONE
BEGIN:VEVENT
DTSTART;VALUE=DATE:20250603
DTEND;VALUE=DATE:20250604
DTSTAMP:20260423T072702
CREATED:20250521T172436Z
LAST-MODIFIED:20250521T173524Z
UID:102584-1748908800-1748995199@enfermeriasalamanca.com
SUMMARY:I Jornada ‘Enfermería y Salud Digital: La Luz del Cuidado’
DESCRIPTION:
URL:https://enfermeriademurcia.org/jornada-congreso/i-jornada-enfermeria-y-salud-digital-la-luz-del-cuidado/
CATEGORIES:Congresos/Jornadas
ATTACH;FMTTYPE=image/jpeg:https://enfermeriasalamanca.com/wp-content/uploads/2025/05/i-jornanda-enfermeria-y-salud-digital.jpg
END:VEVENT
BEGIN:VEVENT
DTSTART;VALUE=DATE:20250605
DTEND;VALUE=DATE:20250606
DTSTAMP:20260423T072702
CREATED:20250602T114310Z
LAST-MODIFIED:20250602T114310Z
UID:102791-1749081600-1749167999@enfermeriasalamanca.com
SUMMARY:II Jornada de Experiencias de las Asociaciones de Pacientes y Familiares 2025
DESCRIPTION:II Jornada de Experiencias de las Asociaciones de Pacientes y Familiares 2025\nInscripción On-line:\nInscripción On-line de cursos\n \nOrganiza:\n– Consejería de Sanidad. Gerencia Regional de Salud de Castilla y León. Dirección General de Calidad e Infraestructuras Sanitarias.\n– Instituto de Ciencias de la Salud de Castilla y León (ICSCYL). \nFecha:\n5 de junio de 2025. \nLugar:\nCortes de Castilla y León – Salón de Actos.\nPlaza de las Cortes de Castilla y León\, 1.\nValladolid.\n(Imprescindible acudir con DNI para el control de acceso al edificio) \nDirigido a:\n– Asociaciones de Pacientes\, Familiares y Cuidadores. Profesionales y Gestores de Atención a Usuarios en los centros sanitarios.\n– Profesionales y Gestores de Atención a Usuarios en los centros sanitarios.
URL:https://enfermeriasalamanca.com/calendariosalamanca/ii-jornada-de-experiencias-de-las-asociaciones-de-pacientes-y-familiares-2025/
CATEGORIES:Congresos/Jornadas
ATTACH;FMTTYPE=image/jpeg:https://enfermeriasalamanca.com/wp-content/uploads/2025/06/ii-jornadas-experiencias-pacientes-familiares.jpg
END:VEVENT
BEGIN:VEVENT
DTSTART;VALUE=DATE:20250609
DTEND;VALUE=DATE:20250614
DTSTAMP:20260423T072702
CREATED:20250130T182144Z
LAST-MODIFIED:20250130T182144Z
UID:101395-1749427200-1749859199@enfermeriasalamanca.com
SUMMARY:30 Congreso del CIE 2025
DESCRIPTION:El CIE se complace en darle la bienvenida al Congreso del CIE de 2025\, que se celebrará en Helsinki\, Finlandia\, del 9 al 13 de junio de 2025. Esta reunión internacional de miles de enfermeras explorará el tema: ¡El poder de la enfermería para cambiar el mundo! \nSiguiendo los pasos del Congreso del CIE celebrado en Montreal en 2023\, el Congreso de Helsinki ofrecerá oportunidades para que las enfermeras establezcan relaciones y difundan los conocimientos y el liderazgo de la enfermería entre especialidades\, culturas y países. Los delegados podrán escuchar y aprender de ponentes expertos\, líderes gubernamentales y pioneros influyentes. \nOrganizado en colaboración con la Asociación Finlandesa de Enfermeras (FNA)\, éste será el 30º Congreso del CIE. También se cumplen 100 años de la fundación de la Asociación Finlandesa de Enfermeras y de la última vez que el Congreso del CIE se celebró en Finlandia. La FNA es la orgullosa coanfitriona del evento una vez más\, y les da la bienvenida a la tierra del Sol de Medianoche. El siguiente vídeo le llevará a dar un breve paseo por la hermosa ciudad anfitriona de Helsinki y el maravilloso país de Finlandia. Tal vez\, durante su estancia\, experimente también un poco de la magia del solsticio de verano\, como complemento a su experiencia profesional en el congreso. \n¡Únase a nosotros en estas celebraciones y ayude a demostrar que la enfermería tiene el poder de cambiar el mundo!
URL:https://icn.ch/es/eventos/congreso-del-cie-2025-helsinki
CATEGORIES:Congresos/Jornadas
ATTACH;FMTTYPE=image/png:https://enfermeriasalamanca.com/wp-content/uploads/2025/01/CIE_2025_Helsinki.png
END:VEVENT
BEGIN:VEVENT
DTSTART;VALUE=DATE:20250611
DTEND;VALUE=DATE:20250613
DTSTAMP:20260423T072702
CREATED:20241106T105520Z
LAST-MODIFIED:20241106T105520Z
UID:100324-1749600000-1749772799@enfermeriasalamanca.com
SUMMARY:51 Reunión Internacional de Investigación en Enfermería
DESCRIPTION:51 Reunión Internacional de Investigación en Enfermería\n\n¡Hola! Somos Sofía y Juan y te vamos a acompañar en la 51 Reunión Internacional de Investigación en Enfermería para orientarte en las diferentes actividades que hemos programado \n\n\n5 razones para inscribirme en la 51 Reunión Científica de la Fundación Index\n1 Podré participar en todas las actividades sin moverme de casa.\n2 Conoceré a investigadores e investigadoras de reconocido prestigio de ámbito internacional con los que compartiremos reflexiones e innovaciones.\n3 Podré presentar mis trabajos en una diversidad de formatos: comunicación oral o digital\, póster\, vídeo\, trabajo académico.\n4 Mis trabajos aceptados serán publicados en una revista indexada y con índice de impacto.\n5 Podré realizar hasta dos talleres gratis\, sin cuotas complementarias.\nTransformemos la experiencia acumulada en una fuente de evidencias para una práctica de cuidados más segura. Compartamos nuestras buenas prácticas y aprendizajes para enriquecer la profesión y el bienestar de los ciudadanos que cuidamos
URL:https://fundacionindex.com/rc/
CATEGORIES:Congresos/Jornadas
ATTACH;FMTTYPE=image/png:https://enfermeriasalamanca.com/wp-content/uploads/2024/11/51-reunion-investigacion-enfermeria.png
END:VEVENT
BEGIN:VEVENT
DTSTART;VALUE=DATE:20250611
DTEND;VALUE=DATE:20250613
DTSTAMP:20260423T072702
CREATED:20250521T173014Z
LAST-MODIFIED:20250521T173014Z
UID:102589-1749600000-1749772799@enfermeriasalamanca.com
SUMMARY:16º CONGRESO NACIONAL ASECMA
DESCRIPTION:
URL:https://www.congresocma.es/2025/inicio
CATEGORIES:Congresos/Jornadas
ATTACH;FMTTYPE=image/png:https://enfermeriasalamanca.com/wp-content/uploads/2025/05/16-congreso-ASECMA.png
END:VEVENT
BEGIN:VEVENT
DTSTART;VALUE=DATE:20250612
DTEND;VALUE=DATE:20250614
DTSTAMP:20260423T072702
CREATED:20250313T093528Z
LAST-MODIFIED:20250313T093528Z
UID:101824-1749686400-1749859199@enfermeriasalamanca.com
SUMMARY:XXXVI Congreso Nacional de Enfermería Vascular y Heridas
DESCRIPTION:David Pérez Barreno \n\n\n\n\n\n\nEstimados/as colegas\, \nMe dirijo a vosotros en calidad de presidente del XXXVI Congreso Nacional de la Asociación de Enfermería Vascular y Heridas (AEEVH)\, que se celebrará en Cádiz entre los días 12 y 13 de junio de 2025. En nuestro afán por seguir profundizando en la investigación y conocimiento\, este año el evento se desarrollará bajo el lema La prevención de hoy\, tu salud de mañana. \nNos esperan dos intensas jornadas donde profesionales de referencia nacional aportarán su valioso conocimiento en temáticas como humanización\, cuidados paliativos\, tabaquismo\, prevención frente a curación\, diabetes\, o globalización en las heridas. No faltarán los talleres prácticos\, que tanto conocimiento aportan a los asistentes a nuestro Congreso de la mano de expertos en materias como compresión terapéutica\, calzado adaptado a pie diabético\, punción ecoguiada\, terapia de presión negativa\, o ITB\, entre otros. \nA toda esta actividad se sumarán las comunicaciones orales y póster\, además de un pre-congreso\, que tendrá lugar el 11 de junio y que se centrará en ecografía vascular y cirugía menor. Unas completas jornadas que se desarrollarán en las hermosas instalaciones del Aulario La Bomba y la Facultad de Filosofía y Letras. \nEn este espacio virtual\, encontraréis toda la información referente al programa científico\, comunicaciones\, inscripciones y localización de la sede. Espero y deseo que disfrutéis ampliamente de este evento científico\, así como de la trimilenaria ciudad de Cádiz y de sus gentes. \n¡Os esperamos! \n  \nDavid Pérez Barreno\nPresidente de la AEEVH
URL:https://congresonacional.aeevh.org/
CATEGORIES:Congresos/Jornadas
ATTACH;FMTTYPE=image/png:https://enfermeriasalamanca.com/wp-content/uploads/2025/03/XXXVI-congreso-enfermeria-vascular-heridas.png
END:VEVENT
BEGIN:VEVENT
DTSTART;VALUE=DATE:20250612
DTEND;VALUE=DATE:20250615
DTSTAMP:20260423T072702
CREATED:20250521T173356Z
LAST-MODIFIED:20250603T092233Z
UID:102598-1749686400-1749945599@enfermeriasalamanca.com
SUMMARY:9º CONGRESO NACIONAL AAS
DESCRIPTION:PRESENTACIÓN\n\nCuando se cumplen 25 años de trayectoria de la Asociación de Administrativos Sanitarios (AAS) es el momento de realizar un balance y qué mejor forma para hacerlo que celebrando una nueva edición del Congreso de la AAS. \nMás visibles\, valios@s\, necesari@s\, en definitiva\, más profesionales\, pretende que\, durante tres días\, las administrativas y administrativos sanitarios\, seamos el centro de atención\, como profesionales que formamos parte del SNS. \nDesde el Comité Organizador\, hemos preparado un programa variado con el que esperamos despierte tu interés y participación\, en definitiva\, que el aprendizaje y las buenas prácticas nos dirija\, más que nunca\, a un reconocimiento profesional definitivo. \n\n\nJuan Carlos García Benito\n\n\nPresidente de la Asociación de Administrativos Sanitarios
URL:https://congreso.administrativossanitarios.com/
CATEGORIES:Congresos/Jornadas
ATTACH;FMTTYPE=image/png:https://enfermeriasalamanca.com/wp-content/uploads/2025/05/9-congreso-nacional-aas.png
END:VEVENT
BEGIN:VEVENT
DTSTART;VALUE=DATE:20250613
DTEND;VALUE=DATE:20250614
DTSTAMP:20260423T072702
CREATED:20250521T174220Z
LAST-MODIFIED:20250521T174220Z
UID:102605-1749772800-1749859199@enfermeriasalamanca.com
SUMMARY:II Renunión Nacional de Enfermería Urológica Pediátrica
DESCRIPTION:
URL:https://rnepu2025.aeu.es/default.aspx
CATEGORIES:Congresos/Jornadas
ATTACH;FMTTYPE=image/png:https://enfermeriasalamanca.com/wp-content/uploads/2025/05/ii-reunion-enfermeria-urologica-pediatrica.png
END:VEVENT
BEGIN:VEVENT
DTSTART;VALUE=DATE:20250615
DTEND;VALUE=DATE:20250619
DTSTAMP:20260423T072702
CREATED:20250130T181220Z
LAST-MODIFIED:20250130T181220Z
UID:101386-1749945600-1750291199@enfermeriasalamanca.com
SUMMARY:50 Congreso Nacional de la SEEIUC
DESCRIPTION:50 Congreso Nacional de la SEEIUC \nDesde SEEIUC\, nos complace extenderle una cordial invitación al próximo evento que tendrá lugar del 15 al 18 de junio de 2025 en Valencia. Este encuentro\, el 50 CONGRESO SEEIUC\, ha sido cuidadosamente planificado y representa un hito significativo para nuestra comunidad de profesionales de enfermería. \nEl 50 CONGRESO SEEIUC ofrecerá una plataforma para que los destacados profesionales de enfermería puedan exponer sus ideas innovadoras\, participar en discusiones enriquecedoras y establecer colaboraciones estratégicas. Con una variedad de actividades programadas\, que incluyen conferencias magistrales\, paneles de discusión\, talleres de simulación y oportunidades de networking\, este evento promete ser una experiencia verdaderamente enriquecedora. \nAdemás de la programación emocionante\, Valencia\, con su encanto mediterráneo y su rica historia\, proporcionará el escenario perfecto para este encuentro inspirador. \nNos encantaría contar con su presencia para enriquecer aún más este evento con su valiosa experiencia y conocimientos. Su participación sería fundamental para garantizar el éxito de esta reunión. \nAdemás\, nos gustaría invitarle a considerar la posibilidad de formar parte del mundo SEEIUC en un nivel más profundo. Le animamos a postularse para diversos puestos en la junta y el comité científico\, que se renuevan anualmente\, para que pueda contribuir desde dentro de la organización. \nEsperamos con entusiasmo la oportunidad de saludarle en persona en Valencia y compartir esta experiencia única juntos. \nCordialmente\, \nMiguel Ángel Giménez Lajara.\nPresidente SEEIUC 2025
URL:https://bocemtium.com/seeiuc/2025/
CATEGORIES:Congresos/Jornadas
ATTACH;FMTTYPE=image/jpeg:https://enfermeriasalamanca.com/wp-content/uploads/2025/01/50-congreso-SEEIUC.jpg
END:VEVENT
BEGIN:VEVENT
DTSTART;VALUE=DATE:20250619
DTEND;VALUE=DATE:20250622
DTSTAMP:20260423T072702
CREATED:20250130T181522Z
LAST-MODIFIED:20250130T181522Z
UID:101390-1750291200-1750550399@enfermeriasalamanca.com
SUMMARY:3 Congreso Ibérico de hematología y Oncología Pediátricas
DESCRIPTION:Apreciados socios\, \nCon mucha ilusión os anunciamos el III Congreso Ibérico de Hematología y Oncología Pediátricas que tendrá lugar en la vibrante ciudad de Oporto\, en el Super Bock Arena/Pabellón Rosa Mota\, los días 19\, 20 y 21 de junio de 2025. \nTras el éxito de los dos congresos anteriores\, en formato virtual y presencial\, este tercer encuentro supone un nuevo hito para nuestras sociedades\, la Sociedad Portuguesa de Hematología y Oncología Pediátrica (SHOP) y la Sociedad Española de Hematología y Oncología Pediátricas (SEHOP). Sin duda constituirá un foro privilegiado para debatir temas de vanguardia\, promover la colaboración internacional y reforzar nuestro compromiso con la innovación en Hematología y en Oncología pediátricas. \nEn esta edición\, contaremos con expertos mundiales en áreas emergentes como la medicina regenerativa\, la inteligencia artificial los retos de los programas globales de salud y otras áreas como las hemoglobinopatías\, trombosis\, la cirugía pediátrica\, los tumores del sistema nervioso central\, entre otros temas de especial relevancia clínica y científica en la actualidad. \nLos profesionales más jóvenes de nuestras sociedades (Young-SEHOP y Young-SHOP) también tendrán un papel destacado\, con sesiones dedicadas a la discusión de casos clínicos. \nAdemás\, como en la edición anterior\, queremos destacar que el congreso contará con dos cursos de simulación que ofrecen un enfoque práctico e inmersivo que consideramos muy atractivo. \nEl grupo de enfermería organizará a su vez sesiones específicas para destacar y divulgar su papel esencial en el cuidado integral de los niños y adolescentes con enfermedades hematológicas y oncológicas. \nPara los visitantes\, Oporto\, patrimonio mundial de la UNESCO\, reconocido como Mejor Destino Europeo en varios años y galardonado con los World Travel Awards en 2022 y 2023\, será el escenario perfecto para este evento. Una ciudad rica en historia\, cultura y arquitectura\, con su inconfundible hospitalidad\, promete envolver a los participantes en un ambiente inspirador y acogedor. Aquellos que puedan prolongar su estancia\, tendrán la oportunidad de disfrutar de las emblemáticas fiestas de San Juan los días 23 y 24 de junio\, una de las más importantes celebraciones tradicionales de Portugal. Y\, además\, entre muchas otras actividades\, podrán disfrutar de un agradable paseo por el magnífico río Duero. \nEstamos convencidos de que este congreso será una oportunidad única para fortalecer lazos\, compartir conocimientos y continuar trabajando en nuevos proyectos conjuntos entre SHOP y SEHOP. \nConfiamos en contar con vuestra presencia para hacer de este evento un hito inolvidable en la historia de nuestras sociedades. \nBienvenidos al III Congreso Ibérico de Hematología y Oncología Pediátrica.
URL:https://www.geyseco.es/sehop2025/index.php?go=inicio
CATEGORIES:Congresos/Jornadas
ATTACH;FMTTYPE=image/jpeg:https://enfermeriasalamanca.com/wp-content/uploads/2025/01/xvii-congreso-sehop.jpg
END:VEVENT
BEGIN:VEVENT
DTSTART;VALUE=DATE:20250626
DTEND;VALUE=DATE:20250630
DTSTAMP:20260423T072702
CREATED:20250521T175115Z
LAST-MODIFIED:20250521T175115Z
UID:102610-1750896000-1751241599@enfermeriasalamanca.com
SUMMARY:Congreso 2025 sobre el Síndrome de Phelan-McDermid
DESCRIPTION:
URL:https://www.phelanmcdermid-syndrome-global-congress-2025.com/home-conferencia-es
CATEGORIES:Congresos/Jornadas
ATTACH;FMTTYPE=image/jpeg:https://enfermeriasalamanca.com/wp-content/uploads/2025/05/congreso-2025-phelan-mcdermid.jpg
END:VEVENT
BEGIN:VEVENT
DTSTART;VALUE=DATE:20250626
DTEND;VALUE=DATE:20250630
DTSTAMP:20260423T072702
CREATED:20250528T153230Z
LAST-MODIFIED:20250528T153230Z
UID:102711-1750896000-1751241599@enfermeriasalamanca.com
SUMMARY:Congreso 2025 sobre el Síndrome de Phelan-McDermid
DESCRIPTION:Congreso 2025 sobre el Síndrome de Phelan-McDermid \nQueridos amigos\, \nEs un placer invitaros al Congreso 2025 sobre el Síndrome de Phelan-McDermid del 26 al 29 de junio en el Parque de Investigación Biomédica de Barcelona. \nPor primera vez\, nos unimos con CureSHANK en la organización de este evento. Del 26 al 27 de junio\, tendrá lugar el II Simposio de CureSHANK\, dirigido a la comunidad científica\, e irá seguido del 28 al 29 de junio\, de la III Conferencia científica de la Asociación Síndrome de Phelan-McDermid\, destinada a familias\, médicos\, investigadores y otros profesionales de la salud. Esperamos con este evento conjunto poder reforzar los lazos de la comunidad Phelan-McDermid\, unir nuestras voces y llegar más lejos.
URL:https://www.phelanmcdermid-syndrome-global-congress-2025.com/home-conferencia-es
CATEGORIES:Congresos/Jornadas
ATTACH;FMTTYPE=image/jpeg:https://enfermeriasalamanca.com/wp-content/uploads/2025/05/congreso-2025-phelan-mcdermid-1.jpg
END:VEVENT
BEGIN:VEVENT
DTSTART;TZID=Europe/Madrid:20250630T080000
DTEND;TZID=Europe/Madrid:20250630T170000
DTSTAMP:20260423T072702
CREATED:20250630T103322Z
LAST-MODIFIED:20250630T103322Z
UID:103000-1751270400-1751302800@enfermeriasalamanca.com
SUMMARY:III Congreso Internacional Multidisciplinario de Empatía
DESCRIPTION:III Congreso Internacional\n​Multidisciplinario de Empatía    \nIII Encuentro de la Red Iberoamericana de Empatía\n 4-6 de noviembre de 2025\nFacultad de Enfermería y Terapia Ocupacional\nCáceres – Extremadura – España\nUniversidad de Extremadura
URL:https://www.tercercongresointernacionalempatia.org/
CATEGORIES:Congresos/Jornadas
ATTACH;FMTTYPE=image/png:https://enfermeriasalamanca.com/wp-content/uploads/2025/06/III_Congreso_Multidisciplinario_empatia.png
END:VEVENT
END:VCALENDAR