BEGIN:VCALENDAR
VERSION:2.0
PRODID:-//COLEGIO DE ENFERMERÍA DE SALAMANCA - ECPv6.15.17//NONSGML v1.0//EN
CALSCALE:GREGORIAN
METHOD:PUBLISH
X-ORIGINAL-URL:https://enfermeriasalamanca.com
X-WR-CALDESC:Eventos para COLEGIO DE ENFERMERÍA DE SALAMANCA
REFRESH-INTERVAL;VALUE=DURATION:PT1H
X-Robots-Tag:noindex
X-PUBLISHED-TTL:PT1H
BEGIN:VTIMEZONE
TZID:Europe/Madrid
BEGIN:DAYLIGHT
TZOFFSETFROM:+0100
TZOFFSETTO:+0200
TZNAME:CEST
DTSTART:20230326T010000
END:DAYLIGHT
BEGIN:STANDARD
TZOFFSETFROM:+0200
TZOFFSETTO:+0100
TZNAME:CET
DTSTART:20231029T010000
END:STANDARD
BEGIN:DAYLIGHT
TZOFFSETFROM:+0100
TZOFFSETTO:+0200
TZNAME:CEST
DTSTART:20240331T010000
END:DAYLIGHT
BEGIN:STANDARD
TZOFFSETFROM:+0200
TZOFFSETTO:+0100
TZNAME:CET
DTSTART:20241027T010000
END:STANDARD
BEGIN:DAYLIGHT
TZOFFSETFROM:+0100
TZOFFSETTO:+0200
TZNAME:CEST
DTSTART:20250330T010000
END:DAYLIGHT
BEGIN:STANDARD
TZOFFSETFROM:+0200
TZOFFSETTO:+0100
TZNAME:CET
DTSTART:20251026T010000
END:STANDARD
END:VTIMEZONE
BEGIN:VEVENT
DTSTART;VALUE=DATE:20240821
DTEND;VALUE=DATE:20241016
DTSTAMP:20260424T085548
CREATED:20240927T121709Z
LAST-MODIFIED:20240927T121709Z
UID:99742-1724198400-1729036799@enfermeriasalamanca.com
SUMMARY:BOLSA SACYL 2024.- Punto de corte
DESCRIPTION: 21 Agosto 2024 – Convocatoria punto de corte 2024\nRESOLUCIÓN de 9 de agosto de 2024\, de la Dirección General de Personal y Desarrollo Profesional\, por la que se determina la fecha de corte hasta la que se tendrán en cuenta las nuevas inscripciones registradas y las actualizaciones de méritos de los integrantes de la lista actual de candidatos\, de la categoría de personal estatutario del Servicio de Salud de Castilla y León de Enfermero/a. \n Resolución \nFECHA DE CORTE DEL AÑO 2024\, de la bolsa de la categoría de personal estatutario del Servicio de Salud de Castilla y León de ENFERMERO/A\, el día 15 de octubre de 2024 (incluido)
URL:https://enfermeriasalamanca.com/bolsa-sacyl-enfermeria-punto-de-corte-2024/
CATEGORIES:Plazos de convocatoria
ATTACH;FMTTYPE=image/jpeg:https://enfermeriasalamanca.com/wp-content/uploads/2020/12/0853caad18fecbf3fecf02168878c69f.jpg
END:VEVENT
BEGIN:VEVENT
DTSTART;VALUE=DATE:20240826
DTEND;VALUE=DATE:20240924
DTSTAMP:20260424T085548
CREATED:20240820T090712Z
LAST-MODIFIED:20240822T081121Z
UID:99340-1724630400-1727135999@enfermeriasalamanca.com
SUMMARY:Convocatoria acceso Extraordinario a la Carrera profesional (Grados I\, II y III)
DESCRIPTION: 20 Agosto 2024.- Convocatoria\nRESOLUCIÓN de 14 de agosto de 2024\, de la Directora Gerente de la Gerencia Regional de Salud de Castilla y León\, por la que se convoca proceso extraordinario de acceso a la carrera profesional horizontal del personal estatutario del Servicio de Salud de Castilla y León. \n Resolución \nPodrá presentar solicitud el personal estatutario\, el personal funcionario sanitario y el personal directivo que preste servicios en la Gerencia Regional de Salud que se encuentren en situación de servicio activo o en cualquier otra que implique reserva de plaza o de puesto de trabajo \nRequisitos \n⇒ Encontrarse en situación de servicio activo o en cualquier otra que implique reserva de plaza o de puesto de trabajo en la categoría profesional para la que se solicita el reconocimiento de la carrera profesional\, entre el 1 de enero de 2024 y el fin del plazo de presentación de la solicitud (23 septiembre 2024) \n⇒ Acreditar\, en la categoría profesional\, cuerpo o escala en la que se solicita el reconocimiento de uno de los grados de carrera profesional convocados en esta Resolución\, la siguiente antigüedad reconocida por el Servicio de Salud de Castilla y León a 31 de diciembre de 2023: \nGRADO I. una antigüedad mínima ponderada de 5 años para el acceso al grado I de carrera profesional.\nGRADO II. una antigüedad mínima ponderada de 15 años para el acceso al grado II de carrera profesional:\nGRADO III. una antigüedad mínima ponderada de 20 años para el acceso al grado III de carrera profesional. \nA los efectos de considerar acreditada la antigüedad necesaria\, a los servicios prestados en diferentes grupos o subgrupos profesionales se les aplicará un coeficiente de ponderación del 100 % para los servicios prestados en el mismo grupo o subgrupo para el que se solicita la carrera profesional al amparo de la convocatoria extraordinaria\, del 70 % a los servicios prestados en un grupo o subgrupo inmediatamente inferior o superior y del 50 % en el resto de los casos \n⇒ No tener reconocido a fecha 31 de diciembre de 2023 el grado de carrera profesional cuyo acceso extraordinario se solicita. \n⇒ Presentar la solicitud conforme a lo dispuesto en esta Resolución. En la solicitud se realizará declaración responsable \nSolicitud OCAP \n⇒ Los interesados deberán acceder a la aplicación de carrera profesional (Ocap) a través del siguiente enlace: https://carreraprofesional.saludcastillayleon.es/ocap/ \n⇒ Presentación telemática o presentación presencial (oficinas de asistencia en materia de registros de la Administración de la Comunidad de Castilla y León) \n⇒ El plazo de presentación de solicitudes será desde el día 26 de agosto de 2024 hasta el día 23 de septiembre de 2024\, ambos incluidos.  \nEfectos económicos desde 1 enero 2024
URL:https://enfermeriasalamanca.com/calendariosalamanca/convocatoria-acceso-extraordinario-a-la-carrera-profesional-grados-i-ii-y-iii/
CATEGORIES:Plazos de convocatoria
ATTACH;FMTTYPE=image/jpeg:https://enfermeriasalamanca.com/wp-content/uploads/2019/11/banner_carrera_profesional.jpg
END:VEVENT
BEGIN:VEVENT
DTSTART;VALUE=DATE:20240916
DTEND;VALUE=DATE:20241109
DTSTAMP:20260424T085548
CREATED:20240927T101524Z
LAST-MODIFIED:20240927T103436Z
UID:99715-1726444800-1731110399@enfermeriasalamanca.com
SUMMARY:Curso de formación continuada: Atención al paciente psiquiátrico
DESCRIPTION:Curso de formación continuada: Atención al paciente psiquiátrico\n\n\nCaracterísticas del curso\n\n\n\n\n\n\nModalidad: Online (Campus de ISFOS)\n\n\nFechas: del 16 de Septiembre al 08 de Noviembre de 2024\nSolicitada Acreditación 6 CFC · Duración: 40 h.\nAlumnos: Máximo 50\nPrecio:  5 € (resto subvencionado)\nInscripción: del 26 de Agosto al 01 de Septiembre de 2024\nNota: En caso de superar el número máximo de alumnos el día 02 de Septiembre se realizara un sorteo para la designación de las plazas y se comunicará el resultado a todos por email.
URL:https://enfermeriasalamanca.com/curso-online-isfos-atencion-al-paciente-psiquiatrico/
CATEGORIES:Formación Continuada
ATTACH;FMTTYPE=image/jpeg:https://enfermeriasalamanca.com/wp-content/uploads/2024/08/ISFOS-ATENCION-AL-PACIENTE-PSIQUIATRICO.jpeg
END:VEVENT
BEGIN:VEVENT
DTSTART;VALUE=DATE:20240916
DTEND;VALUE=DATE:20241109
DTSTAMP:20260424T085548
CREATED:20240927T115225Z
LAST-MODIFIED:20240927T122506Z
UID:99731-1726444800-1731110399@enfermeriasalamanca.com
SUMMARY:Cuidados de enfermería a pacientes con heridas complejas
DESCRIPTION:Características del curso\n\n\n\n\n\n\nModalidad: Online (Campus de ISFOS)\n\n\nFechas: del 16 de Septiembre al 08 de Noviembre de 2024\nSolicitada Acreditación 6\,5 CFC · Duración: 40 h.\nAlumnos: Máximo 50\nPrecio:  5 € (resto subvencionado)\nInscripción: del 26 de Agosto al 01 de Septiembre de 2024
URL:https://enfermeriasalamanca.com/curso-online-isfos-cuidados-de-enfermeria-a-pacientes-con-heridas-complejas/
CATEGORIES:Formación Continuada
ATTACH;FMTTYPE=image/jpeg:https://enfermeriasalamanca.com/wp-content/uploads/2024/08/ISFOS-cuidados-de-enfermeria-heridas-complejas.jpeg
END:VEVENT
BEGIN:VEVENT
DTSTART;VALUE=DATE:20240919
DTEND;VALUE=DATE:20240921
DTSTAMP:20260424T085548
CREATED:20240904T085837Z
LAST-MODIFIED:20240927T113458Z
UID:99527-1726704000-1726876799@enfermeriasalamanca.com
SUMMARY:VII Congreso Nacional de Enfermería y Salud
DESCRIPTION:AUDITORIO DE GALICIA : PLENARIO CONGRESUAL\nFACULTAD DE ENFERMERIA DE LA USC: DEFENSA DE COMUNICACIONES / TALLERES PRECONGRESUALES\n\n\nSANTIAGO DECOMPOSTELA – A CORUÑA -GALICIA\n\n\nAv. do Burgo das Nacións\, 15704 Santiago de Compostela\, A Coruña
URL:https://enfermeriaysalud.es/congreso/
CATEGORIES:Congresos/Jornadas
ATTACH;FMTTYPE=image/png:https://enfermeriasalamanca.com/wp-content/uploads/2024/09/VII-CONGRESO-ENFERMERIA-Y-SALUD.png
END:VEVENT
BEGIN:VEVENT
DTSTART;TZID=Europe/Madrid:20240926T080000
DTEND;TZID=Europe/Madrid:20240926T170000
DTSTAMP:20260424T085548
CREATED:20240926T104511Z
LAST-MODIFIED:20240927T113920Z
UID:99708-1727337600-1727370000@enfermeriasalamanca.com
SUMMARY:VIII CONGRESO NACIONAL SEFSE
DESCRIPTION:PRESENTACIÓN\nEstimados compañeros\,\nAdiskide agurgarriak\, \nQueremos presentaros el VIII Congreso Nacional de SEFSE que se celebrará en el recinto hospitalario y universitario de Navarra entre los días 23 y 25 de octubre de 2024. Al mismo tiempo\, celebraremos el XX Aniversario de la Fundación AReDA\, el XX Encuentro de Tutores y Jefes de Estudios y el I Encuentro de Residentes. \nLos Comités Organizador y Científico\, así como la Junta Directiva\, estamos muy ilusionados por preparar un congreso abierto bajo el lema de “Formación\, Humanismo e Inteligencia Artificial”\, un evento para formarnos en todas las áreas competenciales de nuestra labor docente en la Formación Sanitaria Especializada. \nEn este congreso desarrollaremos actividades formativas y comunicativas presenciales en mesas\, talleres\, foros\, comunicaciones orales y póster. Contaremos con el paciente ilustre D. Juan Carlos Unzué Labiano para la Conferencia Inaugural y con D. Nicanor Humberto Bustince Sola para la de Clausura. \nEl congreso se celebrará en el recinto del Hospital Universitario de Navarra (HUN) de Pamplona\, como sede principal\, junto con las instalaciones del Departamento de Salud\, Navarrabiomed-IdisNA\, y de los recintos universitarios de la UPNA y de la UNAV. \nOs invitamos a participar en el VIII Congreso Nacional de SEFSE organizado con el objetivo de continuar FORMÁNDONOS CON CALIDAD e impulsar a nuestros Residentes en este proceso para lograr una atención asistencial de calidad y equidad\, alineados con el modelo de transformación digital que a día de hoy se demanda. \n¡Os esperamos en Pamplona!\nZuen zain gaude Iruñean.
URL:https://geyseco.es/sefse24/index.php?go=inicio
CATEGORIES:Congresos/Jornadas
ATTACH;FMTTYPE=image/jpeg:https://enfermeriasalamanca.com/wp-content/uploads/2024/09/VIII-CONGRESO-NACIONAL-SEFSE.jpg
END:VEVENT
BEGIN:VEVENT
DTSTART;VALUE=DATE:20240927
DTEND;VALUE=DATE:20240928
DTSTAMP:20260424T085548
CREATED:20240927T120204Z
LAST-MODIFIED:20240927T122659Z
UID:99737-1727395200-1727481599@enfermeriasalamanca.com
SUMMARY:Proyecto INYECTA: Actualización en Fármacos Subcutáneos Utilizados en Patologías Reumatológicas para Enfermería
DESCRIPTION:Los pacientes con enfermedades reumáticas\,  requieren un manejo multidisciplinar\, donde el profesional de enfermería\, tiene un papel esencial en la educación e información del paciente y en la de su entorno\, y por ello han de mostrarse  cercanos y accesibles\, para que el paciente pueda consultar\, acerca de las dudas sobre su enfermedad\, los procesos de diagnóstico\, los tratamientos\, así como su autoadministración\, efectos secundarios y el correcto cumplimiento del mismo\, las medidas físico-higiénico-dietéticas a seguir y el control del dolor. \nUn paciente capacitado\, puede participar activamente en el cuidado de su salud y alcanzar el objetivo terapéutico\, mejorando su calidad de vida. \nEspecialmente dirigido a los profesionales de Atención Primaria de Salud por su cercanía al entorno del paciente. \nObjetivo general: \nActualizar conocimientos sobre los diferentes dispositivos y fármacos subcutáneos\, que se administran ambulatoriamente en patologías reumatológicas\, las precauciones y consideraciones a tener en cuenta. \nObjetivos específicos: \n\nCapacitar a los profesionales para realizar una buena valoración de los pacientes que padecen una enfermedad reumatológica.\nConocer los principales Fármacos antiosteoporóticos SC\, los dispositivos de administración y sus precauciones.\nConocer los principales Fármacos SC en Enfermedades Inflamatorias Reumatológicas: Metotrexatos y fármacos biológicos.\n\nComprender la importancia de un adecuado seguimiento de estos pacientes\, así como promover su adherencia al tratamiento \nContenidos: \nConsulta de enfermería en pacientes con enfermedades Reumatológicas y Osteoporosis. \n\nEntrevista y valoración de enfermería.\nTipología de los pacientes y adherencia terapéutica.\nComunicación con el paciente\, su empoderamiento y entorno.\nEstilo y hábitos de vida saludables.
URL:https://enfermeriasalamanca.com/taller-proyecto-inyecta-actualizacion-en-farmacos-subcutaneos-utilizados-en-patologias-reumatologicas-para-enfermeria/
CATEGORIES:Formación Continuada
ATTACH;FMTTYPE=image/jpeg:https://enfermeriasalamanca.com/wp-content/uploads/2024/09/taller-reumatologia.jpeg
END:VEVENT
BEGIN:VEVENT
DTSTART;VALUE=DATE:20240928
DTEND;VALUE=DATE:20240930
DTSTAMP:20260424T085548
CREATED:20240718T120746Z
LAST-MODIFIED:20240927T114315Z
UID:99138-1727481600-1727654399@enfermeriasalamanca.com
SUMMARY:XIII Jornadas Estilos de Vida Saludables de Zaragoza
DESCRIPTION:
URL:https://enfermeriasalamanca.com/calendariosalamanca/xiii-jornadas-estilos-de-vida-saludables-de-zaragoza/
CATEGORIES:Congresos/Jornadas
ATTACH;FMTTYPE=image/png:https://enfermeriasalamanca.com/wp-content/uploads/2024/07/XIII-Jornadas-Estilos-de-Vida-Saludables-de-Zaragoza.png
END:VEVENT
BEGIN:VEVENT
DTSTART;VALUE=DATE:20240928
DTEND;VALUE=DATE:20241128
DTSTAMP:20260424T085548
CREATED:20240927T115403Z
LAST-MODIFIED:20240927T122252Z
UID:99733-1727481600-1732751999@enfermeriasalamanca.com
SUMMARY:Introducción a la continuidad asistencial
DESCRIPTION:Objetivo General:\nActualizar conocimientos de las características generales de la continuidad de cuidados\, describiendo las líneas generales de la continuidad entre los tres niveles asistenciales\, y analizando la importancia de los sistemas de información y las nuevas tecnologías en la misma \n\n\n\n\nTemario\nModulo 1: Organización sanitaria y la continuidad asistencial\nModulo 2: Sistemas de información y su utilidad par ala continuidad asistencial\nModulo 3. Enfermería en la continuidad asistencial\nModulo 4. Innovaciones en la continuidad asistencial
URL:https://enfermeriasalamanca.com/curso-online-fnn-introduccion-a-la-continuidad-asistencial/
CATEGORIES:Formación Continuada
ATTACH;FMTTYPE=image/jpeg:https://enfermeriasalamanca.com/wp-content/uploads/2024/08/fnn-continuidad-asistencial.jpg
END:VEVENT
BEGIN:VEVENT
DTSTART;VALUE=DATE:20240928
DTEND;VALUE=DATE:20241128
DTSTAMP:20260424T085548
CREATED:20240927T115754Z
LAST-MODIFIED:20240927T122315Z
UID:99735-1727481600-1732751999@enfermeriasalamanca.com
SUMMARY:Actualización en urgencias pediátricas
DESCRIPTION:Objetivo General:\nAdquirir o actualizar conocimientos sobre el funcionamiento de las unidades de urgencias pediátricas y del papel del profesional de enfermería ante los motivos de consulta más habituales. \nActualizar conocimientos sobre las técnicas y procedimientos más habituales del profesional de enfermería en una urgencia pediátrica. \n\n\n\n\nTemario\nModulo 1: Organización y estructura de la urgencia pediátrica\nModulo 2: Reanimación cardiopulmonar pediátrica\nModulo 3. Motivos de consulta más frecuente\nModulo 4. Accidentes en la edad pediátrica\nModulo 5. Técnicas y procedimientos en urgencias de pediatría
URL:https://enfermeriasalamanca.com/curso-online-fnn-actualizacion-en-urgencias-pediatricas/
CATEGORIES:Formación Continuada
ATTACH;FMTTYPE=image/jpeg:https://enfermeriasalamanca.com/wp-content/uploads/2024/08/fnn-actualizacion-urgencias-pediatricas.jpeg
END:VEVENT
END:VCALENDAR