BEGIN:VCALENDAR
VERSION:2.0
PRODID:-//COLEGIO DE ENFERMERÍA DE SALAMANCA - ECPv6.15.17//NONSGML v1.0//EN
CALSCALE:GREGORIAN
METHOD:PUBLISH
X-ORIGINAL-URL:https://enfermeriasalamanca.com
X-WR-CALDESC:Eventos para COLEGIO DE ENFERMERÍA DE SALAMANCA
REFRESH-INTERVAL;VALUE=DURATION:PT1H
X-Robots-Tag:noindex
X-PUBLISHED-TTL:PT1H
BEGIN:VTIMEZONE
TZID:Europe/Madrid
BEGIN:DAYLIGHT
TZOFFSETFROM:+0100
TZOFFSETTO:+0200
TZNAME:CEST
DTSTART:20230326T010000
END:DAYLIGHT
BEGIN:STANDARD
TZOFFSETFROM:+0200
TZOFFSETTO:+0100
TZNAME:CET
DTSTART:20231029T010000
END:STANDARD
BEGIN:DAYLIGHT
TZOFFSETFROM:+0100
TZOFFSETTO:+0200
TZNAME:CEST
DTSTART:20240331T010000
END:DAYLIGHT
BEGIN:STANDARD
TZOFFSETFROM:+0200
TZOFFSETTO:+0100
TZNAME:CET
DTSTART:20241027T010000
END:STANDARD
BEGIN:DAYLIGHT
TZOFFSETFROM:+0100
TZOFFSETTO:+0200
TZNAME:CEST
DTSTART:20250330T010000
END:DAYLIGHT
BEGIN:STANDARD
TZOFFSETFROM:+0200
TZOFFSETTO:+0100
TZNAME:CET
DTSTART:20251026T010000
END:STANDARD
END:VTIMEZONE
BEGIN:VEVENT
DTSTART;VALUE=DATE:20240530
DTEND;VALUE=DATE:20240602
DTSTAMP:20260424T133158
CREATED:20240410T162334Z
LAST-MODIFIED:20240410T162334Z
UID:97672-1717027200-1717286399@enfermeriasalamanca.com
SUMMARY:XVI Congreso SEHOP
DESCRIPTION:XVI Congreso SEHOP \nMayorca – 30 Mayo al 1 Junio 2024
URL:https://geyseco.es/sehop2024enfermeria/index.php?go=inicio
CATEGORIES:Congresos/Jornadas
ATTACH;FMTTYPE=image/jpeg:https://enfermeriasalamanca.com/wp-content/uploads/2024/04/XVI_Congreso_SEHOP.jpg
END:VEVENT
BEGIN:VEVENT
DTSTART;VALUE=DATE:20240607
DTEND;VALUE=DATE:20240609
DTSTAMP:20260424T133158
CREATED:20240528T155320Z
LAST-MODIFIED:20240927T113512Z
UID:98424-1717718400-1717891199@enfermeriasalamanca.com
SUMMARY:XX JORNADAS REGIONALES DE MATRONAS
DESCRIPTION:Matronas (con) ciencia es nuestro lema de este año.  \nLas matronas\, como agentes de salud al lado de la mujer tenemos el deber de estar actualizadas científicamente para ofrecerles la mejor atención posible\, a la luz de nuestra conciencia en momentos tan importantes como las nuevas etapas de la vida o la llegada de una nueva vida en sí\, entre otras muchas de nuestras competencias. \nUnir ciencia y (con) ciencia\, sabiendo entretejer los caminos de la mente y del corazón es lo que nos hace elevar nuestra profesión a la excelencia\, como la vocación preciada que es. \nSeguiremos estudiando y escuchando para ofrecer esa óptima atención\, y es sobre este afán de conocimiento que se inspiran estas jornadas\, para iluminar con sabiduría y emoción a las profesionales que a ella asisten. \nUn cálido abrazo de bienvenida\, \nACAMAT
URL:https://mailchi.mp/dd2545060b84/xx-jornadas-regionales-de-matronas?e=836c353cba
CATEGORIES:Congresos/Jornadas
ATTACH;FMTTYPE=image/png:https://enfermeriasalamanca.com/wp-content/uploads/2024/05/XX-JORNADAS-REGIONALES-DE-MATRONAS.png
END:VEVENT
BEGIN:VEVENT
DTSTART;VALUE=DATE:20240614
DTEND;VALUE=DATE:20240615
DTSTAMP:20260424T133158
CREATED:20240528T160043Z
LAST-MODIFIED:20240927T113517Z
UID:98428-1718323200-1718409599@enfermeriasalamanca.com
SUMMARY:V ENCUENTRO DE ENFERMERÍA DE SALUD MENTAL AEESME / CASTILLA Y LEÓN
DESCRIPTION:
URL:https://enfermeriasalamanca.com/calendariosalamanca/v-encuentro-de-enfermeria-de-salud-mental-aeesme-castilla-y-leon/
CATEGORIES:Congresos/Jornadas
ATTACH;FMTTYPE=image/jpeg:https://enfermeriasalamanca.com/wp-content/uploads/2024/05/V-ENCUENTRO-DE-ENFERMERIA-DE-SALUD-MENTAL-AEESME-CYL.jpg
END:VEVENT
BEGIN:VEVENT
DTSTART;VALUE=DATE:20240620
DTEND;VALUE=DATE:20240622
DTSTAMP:20260424T133158
CREATED:20240318T182436Z
LAST-MODIFIED:20240927T113358Z
UID:97235-1718841600-1719014399@enfermeriasalamanca.com
SUMMARY:50 Reunión Científica de la Fundación Index
DESCRIPTION:
URL:https://enfermeriasalamanca.com/50-reunion-cientifica-de-la-fundacion-index/
CATEGORIES:Congresos/Jornadas
ATTACH;FMTTYPE=image/png:https://enfermeriasalamanca.com/wp-content/uploads/2024/03/50-reunion-cientifica-f-index.png
END:VEVENT
BEGIN:VEVENT
DTSTART;VALUE=DATE:20240628
DTEND;VALUE=DATE:20240629
DTSTAMP:20260424T133158
CREATED:20240528T110525Z
LAST-MODIFIED:20240927T113415Z
UID:98411-1719532800-1719619199@enfermeriasalamanca.com
SUMMARY:I Jornada Canaria de Enfermería Escolar
DESCRIPTION:
URL:https://enfermeriasalamanca.com/i-jornada-canaria-de-enfermeria-escolar/
CATEGORIES:Congresos/Jornadas
ATTACH;FMTTYPE=image/jpeg:https://enfermeriasalamanca.com/wp-content/uploads/2024/05/I-Jornada-Canaria-en-Enfermeria-Escolar_Junio-2024.jpg
END:VEVENT
END:VCALENDAR