BEGIN:VCALENDAR
VERSION:2.0
PRODID:-//COLEGIO DE ENFERMERÍA DE SALAMANCA - ECPv6.15.17//NONSGML v1.0//EN
CALSCALE:GREGORIAN
METHOD:PUBLISH
X-WR-CALNAME:COLEGIO DE ENFERMERÍA DE SALAMANCA
X-ORIGINAL-URL:https://enfermeriasalamanca.com
X-WR-CALDESC:Eventos para COLEGIO DE ENFERMERÍA DE SALAMANCA
REFRESH-INTERVAL;VALUE=DURATION:PT1H
X-Robots-Tag:noindex
X-PUBLISHED-TTL:PT1H
BEGIN:VTIMEZONE
TZID:Europe/Madrid
BEGIN:DAYLIGHT
TZOFFSETFROM:+0100
TZOFFSETTO:+0200
TZNAME:CEST
DTSTART:20240331T010000
END:DAYLIGHT
BEGIN:STANDARD
TZOFFSETFROM:+0200
TZOFFSETTO:+0100
TZNAME:CET
DTSTART:20241027T010000
END:STANDARD
BEGIN:DAYLIGHT
TZOFFSETFROM:+0100
TZOFFSETTO:+0200
TZNAME:CEST
DTSTART:20250330T010000
END:DAYLIGHT
BEGIN:STANDARD
TZOFFSETFROM:+0200
TZOFFSETTO:+0100
TZNAME:CET
DTSTART:20251026T010000
END:STANDARD
BEGIN:DAYLIGHT
TZOFFSETFROM:+0100
TZOFFSETTO:+0200
TZNAME:CEST
DTSTART:20260329T010000
END:DAYLIGHT
BEGIN:STANDARD
TZOFFSETFROM:+0200
TZOFFSETTO:+0100
TZNAME:CET
DTSTART:20261025T010000
END:STANDARD
END:VTIMEZONE
BEGIN:VEVENT
DTSTART;VALUE=DATE:20251117
DTEND;VALUE=DATE:20251217
DTSTAMP:20260424T085729
CREATED:20250904T091348Z
LAST-MODIFIED:20250904T091348Z
UID:103897-1763337600-1765929599@enfermeriasalamanca.com
SUMMARY:Baleares 2023-2024.- Enfermería y especialidades (477 plz)
DESCRIPTION: 30 Agosto 2025 – Convocatoria    \nResolución del director general del Servicio de Salud de las Islas Baleares por la que se aprueban la convocatoria\, las bases\, las pruebas\, los temarios y el baremo de méritos que deben regir los procesos de selección\, por los sistemas de acceso libre y de promoción interna y por la modalidad de concurso-oposición\, para cubrir las plazas vacantes de personal estatutario fijo de diferentes categorías profesionales y especialidades dependiente del Servicio de Salud\, como desarrollo de la oferta de empleo público para los años 2023 y 2024.
URL:https://enfermeriasalamanca.com/baleares-2023-2024-enfermeria-y-especialidades/
CATEGORIES:Plazos de convocatoria
ATTACH;FMTTYPE=image/png:https://enfermeriasalamanca.com/wp-content/uploads/2025/09/ibsalut_enfermeria_477.png
END:VEVENT
END:VCALENDAR