BEGIN:VCALENDAR
VERSION:2.0
PRODID:-//COLEGIO DE ENFERMERÍA DE SALAMANCA - ECPv6.15.17//NONSGML v1.0//EN
CALSCALE:GREGORIAN
METHOD:PUBLISH
X-WR-CALNAME:COLEGIO DE ENFERMERÍA DE SALAMANCA
X-ORIGINAL-URL:https://enfermeriasalamanca.com
X-WR-CALDESC:Eventos para COLEGIO DE ENFERMERÍA DE SALAMANCA
REFRESH-INTERVAL;VALUE=DURATION:PT1H
X-Robots-Tag:noindex
X-PUBLISHED-TTL:PT1H
BEGIN:VTIMEZONE
TZID:Europe/Madrid
BEGIN:DAYLIGHT
TZOFFSETFROM:+0100
TZOFFSETTO:+0200
TZNAME:CEST
DTSTART:20240331T010000
END:DAYLIGHT
BEGIN:STANDARD
TZOFFSETFROM:+0200
TZOFFSETTO:+0100
TZNAME:CET
DTSTART:20241027T010000
END:STANDARD
BEGIN:DAYLIGHT
TZOFFSETFROM:+0100
TZOFFSETTO:+0200
TZNAME:CEST
DTSTART:20250330T010000
END:DAYLIGHT
BEGIN:STANDARD
TZOFFSETFROM:+0200
TZOFFSETTO:+0100
TZNAME:CET
DTSTART:20251026T010000
END:STANDARD
BEGIN:DAYLIGHT
TZOFFSETFROM:+0100
TZOFFSETTO:+0200
TZNAME:CEST
DTSTART:20260329T010000
END:DAYLIGHT
BEGIN:STANDARD
TZOFFSETFROM:+0200
TZOFFSETTO:+0100
TZNAME:CET
DTSTART:20261025T010000
END:STANDARD
END:VTIMEZONE
BEGIN:VEVENT
DTSTART;VALUE=DATE:20250110
DTEND;VALUE=DATE:20250131
DTSTAMP:20260425T012937
CREATED:20250109T095045Z
LAST-MODIFIED:20250109T095045Z
UID:100995-1736467200-1738281599@enfermeriasalamanca.com
SUMMARY:OEEP Sacyl 2022 (Estabilización) Concurso.- Relación de aspirantes que han superado el proceso selectivo
DESCRIPTION: 09 Enero 2025 – Relación de aspirantes que han superado el proceso selectivo (concurso)\n\nORDEN SAN/1594/2024\, de 30 de diciembre\, por la que se aprueba la relación de aspirantes que han superado el proceso selectivo para el acceso a la condición de personal estatutario fijo\, mediante el sistema de concurso de méritos\, en plazas de las categorías de Diplomados/as Sanitarios: Enfermero/a del Servicio de Salud de Castilla y León\, y se ofertan las vacantes correspondientes. \n ORDEN SAN/1594/2024 \nPlazo para presentar documentación: 15 días hábiles a contar desde el día siguiente al de la publicación de la presente Orden en el Boletín Oficial de Castilla y León. (del 10 al 30 de enero de 2025\, ambos inclusive) \nLa presentación de la documentación y la elección de plazas se hará exclusivamente de forma telemática (Orden SAN/1363/2023 de 27 de noviembre) a través del siguiente enlace: https://pmes.saludcastillayleon.es/PMES/ \nDocumentación: \n Manual para la elección de plazas\n Modelo Doc b) DECLARACIÓN NO HABER SIDO SEPARADO DEL SERVICIO (2)\n Modelo Doc c) DECLARACIÓN NO SER PERSONAL FIJO (2) \nAlegaciones: Contra la presente Orden\, que agota la vía administrativa\, los interesados podrán interponer recurso contencioso administrativo\, de conformidad con lo establecido en la Ley 29/1998\, de 13 de julio\, reguladora de la Jurisdicción Contencioso-Administrativa\, en el plazo de dos meses contados desde el día siguiente al de su publicación.  (hasta el 10 de marzo de 2025).
URL:https://enfermeriasalamanca.com/oeep-sacyl-2022-1432-enfermero-a-y-41-matrona/#ENFERMERO-CONCURSO
CATEGORIES:Plazos de convocatoria
ATTACH;FMTTYPE=image/jpeg:https://enfermeriasalamanca.com/wp-content/uploads/2025/01/Sacyl-estabilizacion-concurso-enfermeria-aspirantes-superados.jpg
END:VEVENT
END:VCALENDAR