BEGIN:VCALENDAR
VERSION:2.0
PRODID:-//COLEGIO DE ENFERMERÍA DE SALAMANCA - ECPv6.15.17//NONSGML v1.0//EN
CALSCALE:GREGORIAN
METHOD:PUBLISH
X-WR-CALNAME:COLEGIO DE ENFERMERÍA DE SALAMANCA
X-ORIGINAL-URL:https://enfermeriasalamanca.com
X-WR-CALDESC:Eventos para COLEGIO DE ENFERMERÍA DE SALAMANCA
REFRESH-INTERVAL;VALUE=DURATION:PT1H
X-Robots-Tag:noindex
X-PUBLISHED-TTL:PT1H
BEGIN:VTIMEZONE
TZID:Europe/Madrid
BEGIN:DAYLIGHT
TZOFFSETFROM:+0100
TZOFFSETTO:+0200
TZNAME:CEST
DTSTART:20230326T010000
END:DAYLIGHT
BEGIN:STANDARD
TZOFFSETFROM:+0200
TZOFFSETTO:+0100
TZNAME:CET
DTSTART:20231029T010000
END:STANDARD
BEGIN:DAYLIGHT
TZOFFSETFROM:+0100
TZOFFSETTO:+0200
TZNAME:CEST
DTSTART:20240331T010000
END:DAYLIGHT
BEGIN:STANDARD
TZOFFSETFROM:+0200
TZOFFSETTO:+0100
TZNAME:CET
DTSTART:20241027T010000
END:STANDARD
BEGIN:DAYLIGHT
TZOFFSETFROM:+0100
TZOFFSETTO:+0200
TZNAME:CEST
DTSTART:20250330T010000
END:DAYLIGHT
BEGIN:STANDARD
TZOFFSETFROM:+0200
TZOFFSETTO:+0100
TZNAME:CET
DTSTART:20251026T010000
END:STANDARD
END:VTIMEZONE
BEGIN:VEVENT
DTSTART;VALUE=DATE:20241201
DTEND;VALUE=DATE:20241202
DTSTAMP:20260425T025750
CREATED:20241115T104519Z
LAST-MODIFIED:20241115T104519Z
UID:100397-1733011200-1733097599@enfermeriasalamanca.com
SUMMARY:Fecha del ejercicio Estabilización SACyL Enfermería
DESCRIPTION: 15 Noviembre 2024 – Listado definitivo y fecha del ejercicio\nRESOLUCIÓN de 13 de noviembre de 2024\, de la Dirección General de Personal y Desarrollo Profesional\, por la que se aprueba la relación definitiva de aspirantes admitidos y excluidos y se fija la fecha\, hora y el lugar de realización del ejercicio de la fase de oposición del proceso selectivo para el acceso a la condición de personal estatutario fijo en plazas de la categoría de Enfermero/a del Servicio de Salud de Castilla y León\, convocado mediante Orden SAN/1918/2022\, de 23 de diciembre. \n Resolución\n Listados definitivos \nEl listado de distribución de aulas se publicará más adelante. \nConvocar en llamamiento único a los aspirantes admitidos para la realización del ejercicio de la fase de oposición\, que tendrá lugar el día 1 de diciembre de 2024 a las 10.00 horas en las sedes que se detallan en el Anexo (Valladolid\, León o Zamora).
URL:https://enfermeriasalamanca.com/calendariosalamanca/fecha-del-ejercicio-estabilizacion-sacyl-enfermeria/
CATEGORIES:Plazos de convocatoria
ATTACH;FMTTYPE=image/png:https://enfermeriasalamanca.com/wp-content/uploads/2024/11/Sacyl-estabilizacion-examen-enfermeria.png
END:VEVENT
END:VCALENDAR