BEGIN:VCALENDAR
VERSION:2.0
PRODID:-//COLEGIO DE ENFERMERÍA DE SALAMANCA - ECPv6.15.17//NONSGML v1.0//EN
CALSCALE:GREGORIAN
METHOD:PUBLISH
X-WR-CALNAME:COLEGIO DE ENFERMERÍA DE SALAMANCA
X-ORIGINAL-URL:https://enfermeriasalamanca.com
X-WR-CALDESC:Eventos para COLEGIO DE ENFERMERÍA DE SALAMANCA
REFRESH-INTERVAL;VALUE=DURATION:PT1H
X-Robots-Tag:noindex
X-PUBLISHED-TTL:PT1H
BEGIN:VTIMEZONE
TZID:Europe/Madrid
BEGIN:DAYLIGHT
TZOFFSETFROM:+0100
TZOFFSETTO:+0200
TZNAME:CEST
DTSTART:20220327T010000
END:DAYLIGHT
BEGIN:STANDARD
TZOFFSETFROM:+0200
TZOFFSETTO:+0100
TZNAME:CET
DTSTART:20221030T010000
END:STANDARD
BEGIN:DAYLIGHT
TZOFFSETFROM:+0100
TZOFFSETTO:+0200
TZNAME:CEST
DTSTART:20230326T010000
END:DAYLIGHT
BEGIN:STANDARD
TZOFFSETFROM:+0200
TZOFFSETTO:+0100
TZNAME:CET
DTSTART:20231029T010000
END:STANDARD
BEGIN:DAYLIGHT
TZOFFSETFROM:+0100
TZOFFSETTO:+0200
TZNAME:CEST
DTSTART:20240331T010000
END:DAYLIGHT
BEGIN:STANDARD
TZOFFSETFROM:+0200
TZOFFSETTO:+0100
TZNAME:CET
DTSTART:20241027T010000
END:STANDARD
BEGIN:DAYLIGHT
TZOFFSETFROM:+0100
TZOFFSETTO:+0200
TZNAME:CEST
DTSTART:20250330T010000
END:DAYLIGHT
BEGIN:STANDARD
TZOFFSETFROM:+0200
TZOFFSETTO:+0100
TZNAME:CET
DTSTART:20251026T010000
END:STANDARD
END:VTIMEZONE
BEGIN:VEVENT
DTSTART;VALUE=DATE:20231201
DTEND;VALUE=DATE:20231227
DTSTAMP:20260425T232249
CREATED:20231214T182752Z
LAST-MODIFIED:20240927T111502Z
UID:95743-1701388800-1703635199@enfermeriasalamanca.com
SUMMARY:Diputación de Salamanca.- Concurso
DESCRIPTION: 30 Noviembre 2023 – Convocatoria\nResolución de 7 de noviembre de 2023\, de la Diputación Provincial de Salamanca\, referente a la convocatoria para proveer puestos de trabajo por el sistema de concurso. \n Convocatoria\n Bases\n Solicitudes \nPlazo para presentación solicitudes: Del 1 al 26 Diciembre 2023\nPlazas de enfermeria: 22 + 13
URL:https://enfermeriasalamanca.com/calendariosalamanca/diputacion-de-salamanca-concurso/
CATEGORIES:Plazos de convocatoria
ATTACH;FMTTYPE=image/png:https://enfermeriasalamanca.com/wp-content/uploads/2021/05/diputacion-salamanca.png
END:VEVENT
BEGIN:VEVENT
DTSTART;VALUE=DATE:20231204
DTEND;VALUE=DATE:20231220
DTSTAMP:20260425T232249
CREATED:20231214T170344Z
LAST-MODIFIED:20231214T170344Z
UID:95732-1701648000-1703030399@enfermeriasalamanca.com
SUMMARY:Concurso – Administración de la Comunidad de Castilla y León (12 plazas)
DESCRIPTION: 01 Diciembre 2023 – Listado Definitivo de Admitidos y excluidos\nRESOLUCIÓN de 27 de noviembre de 2023\, de la Dirección General de la Función Pública\, por la que se aprueba la relación definitiva de admitidos y excluidos del proceso selectivo para el ingreso mediante concurso\, en la competencia funcional de Enfermero/a de la Administración de la Comunidad de Castilla y León\, en el marco del proceso de estabilización de empleo temporal previsto en la Ley 20/2021\, de 28 de diciembre\, de medidas urgentes para la reducción de la temporalidad en el empleo público y se abre la fase de alegación de méritos. \n Resolución\n Relación definitiva de admitidos y excluidos\n Instrucciones Generales\n Alegación de méritos \nFecha límite: Plazo de presentación de méritos: desde el 4 hasta el 19 de diciembre de 2023
URL:https://enfermeriasalamanca.com/calendariosalamanca/concurso-administracion-de-la-comunidad-de-castilla-y-leon-12-plazas/
CATEGORIES:Plazos de convocatoria
ATTACH;FMTTYPE=image/jpeg:https://enfermeriasalamanca.com/wp-content/uploads/2019/12/jcyl.jpg
END:VEVENT
BEGIN:VEVENT
DTSTART;VALUE=DATE:20231205
DTEND;VALUE=DATE:20240106
DTSTAMP:20260425T232249
CREATED:20231204T183441Z
LAST-MODIFIED:20240927T111509Z
UID:95595-1701734400-1704499199@enfermeriasalamanca.com
SUMMARY:SACyL 2020.- Matrona (40 plz)
DESCRIPTION:SACyL 2020.- Matrona (40 plz)\n 04 diciembre 2023 – Convocatoria\nORDEN SAN/1371/2023\, de 27 de noviembre\, por la que se convoca proceso selectivo para el acceso a la condición de personal estatutario fijo de la categoría de Enfermero/a Especialista: Matrona\, del Servicio de Salud de Castilla y León \n Convocatoria \nPlazas ofertadas: 40 plz (4 reservadas personas con discapacidad)\nPlazo de presentación: El plazo de presentación de solicitudes será de 20 días hábiles\, contados a partir del día siguiente al de la publicación de esta convocatoria en el Boletín Oficial de Castilla y León\, y se dirigirán al órgano gestor del procedimiento: Dirección General de Personal y Desarrollo Profesional. Gerencia Regional de Salud. Paseo Zorrilla\, 1 – 47007 Valladolid\nPlazo de presentación de solicitudes: del 5 de diciembre de 2023 al 5 de enero de 2024.\nSolicitud: https://procesosselectivos.saludcastillayleon.es/\nTasa de examen: Modelo 046 – https://tributos.jcyl.es/web/es/modelo-pago-tasas-precios/acceso-modelo.html\n25\,65 euros  \nAcceso a la web oficial de la oposición
URL:https://enfermeriasalamanca.com/calendariosalamanca/sacyl-2020-matrona-40-plz/
CATEGORIES:Plazos de convocatoria
ATTACH;FMTTYPE=image/png:https://enfermeriasalamanca.com/wp-content/uploads/2023/12/ope-sacyl-2020-matrona.png
END:VEVENT
BEGIN:VEVENT
DTSTART;VALUE=DATE:20231213
DTEND;VALUE=DATE:20240111
DTSTAMP:20260425T232249
CREATED:20231213T094020Z
LAST-MODIFIED:20231213T094020Z
UID:95701-1702425600-1704931199@enfermeriasalamanca.com
SUMMARY:Oposición Enfermeros Penitenciarias 2023
DESCRIPTION:  12 Diciembre 2023 – Convocatoria\nResolución de 30 de noviembre de 2023\, de la Subsecretaría\, por la que se convoca proceso selectivo para ingreso\, por el sistema general de acceso libre\, en el Cuerpo de Enfermeros de Instituciones Penitenciarias. \n Convocatoria\n Inscripción \nPlazas convocadas: 25\nSolicitudes: solicitud 790 a través de www.administracion.gob.es\nPlazo de presentación de solicitudes: 20 días habiles contados a partir del día siguiente al de la fecha de publicación de la convocatoria en el BOE (hasta el 11/01/2024)\nTasa de examen: 23\,33 €\nAnexo IV: Instrucciones para cumplimentar la solicitud
URL:https://enfermeriasalamanca.com/oposicion-enfermeros-penitenciarias-2023/
CATEGORIES:Plazos de convocatoria
ATTACH;FMTTYPE=image/jpeg:https://enfermeriasalamanca.com/wp-content/uploads/2021/06/instituciones_penitenciarias-1.jpg
END:VEVENT
BEGIN:VEVENT
DTSTART;VALUE=DATE:20231218
DTEND;VALUE=DATE:20240103
DTSTAMP:20260425T232249
CREATED:20231218T104503Z
LAST-MODIFIED:20240927T111653Z
UID:95778-1702857600-1704239999@enfermeriasalamanca.com
SUMMARY:OPE SACYL 2020-2021 (900 plazas).- Aprobados de la fase de oposición
DESCRIPTION:
URL:https://enfermeriasalamanca.com/ope-sacyl-2020-21-900-plazas/
CATEGORIES:Plazos de convocatoria
ATTACH;FMTTYPE=image/png:https://enfermeriasalamanca.com/wp-content/uploads/2022/10/banner-opo-sacyl-2021.png
END:VEVENT
END:VCALENDAR