BEGIN:VCALENDAR
VERSION:2.0
PRODID:-//COLEGIO DE ENFERMERÍA DE SALAMANCA - ECPv6.15.17//NONSGML v1.0//EN
CALSCALE:GREGORIAN
METHOD:PUBLISH
X-WR-CALNAME:COLEGIO DE ENFERMERÍA DE SALAMANCA
X-ORIGINAL-URL:https://enfermeriasalamanca.com
X-WR-CALDESC:Eventos para COLEGIO DE ENFERMERÍA DE SALAMANCA
REFRESH-INTERVAL;VALUE=DURATION:PT1H
X-Robots-Tag:noindex
X-PUBLISHED-TTL:PT1H
BEGIN:VTIMEZONE
TZID:Europe/Madrid
BEGIN:DAYLIGHT
TZOFFSETFROM:+0100
TZOFFSETTO:+0200
TZNAME:CEST
DTSTART:20220327T010000
END:DAYLIGHT
BEGIN:STANDARD
TZOFFSETFROM:+0200
TZOFFSETTO:+0100
TZNAME:CET
DTSTART:20221030T010000
END:STANDARD
BEGIN:DAYLIGHT
TZOFFSETFROM:+0100
TZOFFSETTO:+0200
TZNAME:CEST
DTSTART:20230326T010000
END:DAYLIGHT
BEGIN:STANDARD
TZOFFSETFROM:+0200
TZOFFSETTO:+0100
TZNAME:CET
DTSTART:20231029T010000
END:STANDARD
BEGIN:DAYLIGHT
TZOFFSETFROM:+0100
TZOFFSETTO:+0200
TZNAME:CEST
DTSTART:20240331T010000
END:DAYLIGHT
BEGIN:STANDARD
TZOFFSETFROM:+0200
TZOFFSETTO:+0100
TZNAME:CET
DTSTART:20241027T010000
END:STANDARD
END:VTIMEZONE
BEGIN:VEVENT
DTSTART;VALUE=DATE:20230922
DTEND;VALUE=DATE:20231107
DTSTAMP:20260426T024838
CREATED:20231024T174231Z
LAST-MODIFIED:20240927T110134Z
UID:94781-1695340800-1699315199@enfermeriasalamanca.com
SUMMARY:Carrera profesional 2022.- Méritos asistenciales
DESCRIPTION:Carrera profesional 2022.- Méritos asistenciales \n21 Septiembre 2023 – Informe favorable/desfavorable de méritos curriculares \nRESOLUCIÓN de 13 de septiembre de 2023\, de la Directora Gerente de la Gerencia Regional de Salud\, por la que se aprueba el listado de solicitudes que han obtenido informe favorable o desfavorable en la evaluación de méritos curriculares correspondientes al acceso al grado I\, II\, III y IV de carrera profesional\, correspondiente al año 2022\, convocado mediante Resolución de 20 de diciembre de 2022. \n Resolución\n Favorable\n Desfavorable\n Desistidos \nPlazo para realizar la fase de méritos asistenciales de 22 de septiembre al 6 de noviembre
URL:https://enfermeriasalamanca.com/calendariosalamanca/carrera-profesional-2022-meritos-asistenciales/
CATEGORIES:Plazos de convocatoria
ATTACH;FMTTYPE=image/jpeg:https://enfermeriasalamanca.com/wp-content/uploads/2019/11/banner_carrera_profesional.jpg
END:VEVENT
BEGIN:VEVENT
DTSTART;VALUE=DATE:20231023
DTEND;VALUE=DATE:20231114
DTSTAMP:20260426T024838
CREATED:20231025T101009Z
LAST-MODIFIED:20240927T110154Z
UID:94789-1698019200-1699919999@enfermeriasalamanca.com
SUMMARY:SAS.- Concurso de traslados 2023
DESCRIPTION:20 octubre 2023 – Convocatoria\nResolución de 17 de octubre de 2023\, de la Dirección General de Personal del Servicio Andaluz de Salud\, por la que se convoca concurso de traslado para la provisión de plazas básicas vacantes de la categoría Enfermero/a\, dependiente del Servicio Andaluz de Salud. \n Resolución\n Acceso a la web oficial \nSolicitud. A través de «la Ventanilla Electrónica de Profesionales» alojada en la web corporativa del Servicio Andaluz de Salud\nhttps://www.sspa.juntadeandalucia.es/servicioandaluzdesalud/profesionales/ventanilla-electronica-de-profesionales \n \nPlazo de presentación de solicitudes: El plazo de presentación de solicitudes y petición de destinos será de 15 días hábiles (hasta el 13 de noviembre)\, contados a partir del primer día hábil posterior a la publicación de la presente resolución en el Boletín Oficial de la Junta de Andalucía \nPlazas ofertadas: 4519
URL:https://enfermeriasalamanca.com/calendariosalamanca/sas-concurso-de-traslados-2023/
CATEGORIES:Plazos de convocatoria
ATTACH;FMTTYPE=image/jpeg:https://enfermeriasalamanca.com/wp-content/uploads/2019/11/sas_traslados.jpg
END:VEVENT
BEGIN:VEVENT
DTSTART;TZID=Europe/Madrid:20231031T090000
DTEND;TZID=Europe/Madrid:20231114T170000
DTSTAMP:20260426T024838
CREATED:20231031T100612Z
LAST-MODIFIED:20240927T110613Z
UID:94931-1698742800-1699981200@enfermeriasalamanca.com
SUMMARY:EIR 2023/24.- Listado Provisional Admitidos y Excluidos
DESCRIPTION:Resolución de la Dirección General de Ordenación Profesional por la que se aprueban las relaciones provisionales de aspirantes admitidos y no admitidos a las pruebas selectivas convocadas por la Orden SND/990/2023\, de 17 de Agosto. \n Resolución\n Situación personal en la convocatoria actual \n Hoja informativa\n Modelo reclamación\n Ayuda subsanaciones\n Listado Provisional de admitidos y excluidos \nEl plazo de presentación de subsanaciones comenzará el día 31 de octubre a las 9:00:00 horas y finalizará el día 14 de noviembre de 2023 a las 17:00:00 horas\, según la UTC /ROA del Real Instituto y Observatorio de la Armada.
URL:https://enfermeriasalamanca.com/calendariosalamanca/eir-2023-24-listado-provisional-admitidos-y-excluidos/
CATEGORIES:Plazos de convocatoria
ATTACH;FMTTYPE=image/jpeg:https://enfermeriasalamanca.com/wp-content/uploads/2019/10/especialidades.jpg
END:VEVENT
END:VCALENDAR