BEGIN:VCALENDAR
VERSION:2.0
PRODID:-//COLEGIO DE ENFERMERÍA DE SALAMANCA - ECPv6.15.17//NONSGML v1.0//EN
CALSCALE:GREGORIAN
METHOD:PUBLISH
X-ORIGINAL-URL:https://enfermeriasalamanca.com
X-WR-CALDESC:Eventos para COLEGIO DE ENFERMERÍA DE SALAMANCA
REFRESH-INTERVAL;VALUE=DURATION:PT1H
X-Robots-Tag:noindex
X-PUBLISHED-TTL:PT1H
BEGIN:VTIMEZONE
TZID:Europe/Madrid
BEGIN:DAYLIGHT
TZOFFSETFROM:+0100
TZOFFSETTO:+0200
TZNAME:CEST
DTSTART:20250330T010000
END:DAYLIGHT
BEGIN:STANDARD
TZOFFSETFROM:+0200
TZOFFSETTO:+0100
TZNAME:CET
DTSTART:20251026T010000
END:STANDARD
BEGIN:DAYLIGHT
TZOFFSETFROM:+0100
TZOFFSETTO:+0200
TZNAME:CEST
DTSTART:20260329T010000
END:DAYLIGHT
BEGIN:STANDARD
TZOFFSETFROM:+0200
TZOFFSETTO:+0100
TZNAME:CET
DTSTART:20261025T010000
END:STANDARD
BEGIN:DAYLIGHT
TZOFFSETFROM:+0100
TZOFFSETTO:+0200
TZNAME:CEST
DTSTART:20270328T010000
END:DAYLIGHT
BEGIN:STANDARD
TZOFFSETFROM:+0200
TZOFFSETTO:+0100
TZNAME:CET
DTSTART:20271031T010000
END:STANDARD
END:VTIMEZONE
BEGIN:VEVENT
DTSTART;VALUE=DATE:20260311
DTEND;VALUE=DATE:20260314
DTSTAMP:20260422T021442
CREATED:20260129T161108Z
LAST-MODIFIED:20260129T161108Z
UID:105936-1773187200-1773446399@enfermeriasalamanca.com
SUMMARY:36 Jornadas Nacionales de Enfermeras Gestoras
DESCRIPTION:Estimadas compañeras y compañeros\, \nCon mucha ilusión os presentamos las 36 Jornadas Nacionales de Enfermeras Gestoras de Enfermería\, en Palma del 11 al 13 de marzo de 2026. \nBajo el lema «HUMANISMO TECNOLÓGICO: GESTIONANDO LA NUEVA ERA DE LOS CUIDADOS»\, esta edición se centrará en la intersección entre la tecnología y el humanismo en la práctica enfermera\, destacando cómo la digitalización puede mejorar la calidad y seguridad de los cuidados sin perder el enfoque centrado en la persona. \nA lo largo de las jornadas\, los ponentes invitados abordarán diversos temas clave\, como los desafíos éticos que plantea la implementación de nuevas tecnologías\, la importancia de preservar el humanismo en la atención sanitaria\, y las innovaciones digitales que pueden transformar la gestión enfermera y optimizar los resultados en salud. Además\, se analizará cómo la tecnología puede contribuir al bienestar y calidad de vida laboral de los profesionales de enfermería\, ayudando a reducir la sobrecarga. Todo ello\, en los diferentes formatos en los que se estructurará el programa científico: conferencias magistrales\, mesas redondas\, mesas de debate y temáticas\, talleres y simposios. Todos ellos diseñados para fomentar el aprendizaje\, el intercambio de experiencias y la colaboración interdisciplinar entre enfermeros\, tecnólogos\, ingenieros y otros profesionales del ámbito sanitario.
URL:https://andejornadas.com/eventos/36-enfermeras-gestoras/
CATEGORIES:Congresos/Jornadas
ATTACH;FMTTYPE=image/png:https://enfermeriasalamanca.com/wp-content/uploads/2026/01/36-JORNADAS-ENFERMERAS-GESTORAS-1.png
END:VEVENT
BEGIN:VEVENT
DTSTART;VALUE=DATE:20260318
DTEND;VALUE=DATE:20260321
DTSTAMP:20260422T021442
CREATED:20260129T162613Z
LAST-MODIFIED:20260129T174655Z
UID:105948-1773792000-1774051199@enfermeriasalamanca.com
SUMMARY:XXIV Congreso Nacional del Enfermería en Traumatología Y Ortopedia AEETO
DESCRIPTION:Estimados Asociad@s\, Colaborador@s y Amig@s \nTengo buenas noticias\, tenemos SEDE para el Próximo Congreso Nacional Sevilla \nHemos elegido Sevilla para la celebración del que será el XXIV Congreso Nacional de la Asociación Española de Enfermería en Traumatología y Ortopedia por diferentes motivos. Contamos con un gran apoyo  institucional\, traducido en la aceptación de la Presidencia del Comité de Honor\, por parte de D. Víctor Bohórquez Sánchez Presidente ICOES Ilustre Colegio Oficial de Enfermería de Sevilla. Comité de Honor del que formarán parte como viene siendo habitual\, las Direcciones de Enfermería del Entorno. Mención especial merece la gran Acogida recibida por parte de las Enfermeras Sevillanas representando a las diferentes Áreas y Centros Sanitarios que han mostrado su interés por participar activamente en el Programa científico\, cuyas aportaciones sin duda serán el complemento idóneo para lograr un programa de alto nivel. Sin duda un papel destacado ha tenido en esta acogida nuestro Delegado de A.E.E.T.O. en  Andalucía\, David Sanabria Delgado.
URL:https://www.aeeto.es/congreso
CATEGORIES:Congresos/Jornadas
ATTACH;FMTTYPE=image/webp:https://enfermeriasalamanca.com/wp-content/uploads/2026/01/XXIV-CONGRESO-AEETO.webp
END:VEVENT
BEGIN:VEVENT
DTSTART;TZID=Europe/Madrid:20260323T080000
DTEND;TZID=Europe/Madrid:20260323T170000
DTSTAMP:20260422T021442
CREATED:20260323T174451Z
LAST-MODIFIED:20260323T174451Z
UID:106737-1774252800-1774285200@enfermeriasalamanca.com
SUMMARY:48 Congreso de la Asociación Española de Enfermeria en Neurociencias
DESCRIPTION:Carta de Presentación\n\n\nQuerida comunidad profesional\, queridos compañeros y compañeras: \nEs para mí un profundo honor y una gran alegría dirigirme a ustedes como Presidenta del Comité Organizador del Congreso de la Asociación de Enfermería en Neurociencias (AEEN) que se celebrará los días 20\, 21 y 22 de mayo de 2026 en la ciudad de Gran Canaria. Este congreso nace del compromiso\, la ilusión y la convicción de que la Enfermería tiene aún mucho por descubrir\, crecer y transformar. \nEste encuentro surge de un deseo compartido: crear un espacio donde podamos detenernos a pensar\, cuestionar\, innovar y sentir\, donde cada profesional pueda reencontrarse con la esencia de su vocación y con la fuerza que nos impulsa a seguir cuidando\, acompañando y avanzando\, incluso en los momentos más complejos.
URL:https://aeengrancanaria2026.es/inscripciones-aeen-2026/
CATEGORIES:Congresos/Jornadas
ATTACH;FMTTYPE=image/jpeg:https://enfermeriasalamanca.com/wp-content/uploads/2026/03/48-congreso-neurociencias.jpg
END:VEVENT
END:VCALENDAR