BEGIN:VCALENDAR
VERSION:2.0
PRODID:-//COLEGIO DE ENFERMERÍA DE SALAMANCA - ECPv6.15.17//NONSGML v1.0//EN
CALSCALE:GREGORIAN
METHOD:PUBLISH
X-WR-CALNAME:COLEGIO DE ENFERMERÍA DE SALAMANCA
X-ORIGINAL-URL:https://enfermeriasalamanca.com
X-WR-CALDESC:Eventos para COLEGIO DE ENFERMERÍA DE SALAMANCA
REFRESH-INTERVAL;VALUE=DURATION:PT1H
X-Robots-Tag:noindex
X-PUBLISHED-TTL:PT1H
BEGIN:VTIMEZONE
TZID:Europe/Madrid
BEGIN:DAYLIGHT
TZOFFSETFROM:+0100
TZOFFSETTO:+0200
TZNAME:CEST
DTSTART:20240331T010000
END:DAYLIGHT
BEGIN:STANDARD
TZOFFSETFROM:+0200
TZOFFSETTO:+0100
TZNAME:CET
DTSTART:20241027T010000
END:STANDARD
BEGIN:DAYLIGHT
TZOFFSETFROM:+0100
TZOFFSETTO:+0200
TZNAME:CEST
DTSTART:20250330T010000
END:DAYLIGHT
BEGIN:STANDARD
TZOFFSETFROM:+0200
TZOFFSETTO:+0100
TZNAME:CET
DTSTART:20251026T010000
END:STANDARD
BEGIN:DAYLIGHT
TZOFFSETFROM:+0100
TZOFFSETTO:+0200
TZNAME:CEST
DTSTART:20260329T010000
END:DAYLIGHT
BEGIN:STANDARD
TZOFFSETFROM:+0200
TZOFFSETTO:+0100
TZNAME:CET
DTSTART:20261025T010000
END:STANDARD
END:VTIMEZONE
BEGIN:VEVENT
DTSTART;VALUE=DATE:20250918
DTEND;VALUE=DATE:20250920
DTSTAMP:20260423T041818
CREATED:20250808T101547Z
LAST-MODIFIED:20250808T101547Z
UID:103547-1758153600-1758326399@enfermeriasalamanca.com
SUMMARY:VII Congreso de Derecho Sanitario de la comunidad Valenciana
DESCRIPTION:Estimados amigos/as: \nOs presentamos el programa del VIII Congreso de Derecho Sanitario de la Comunidad Valenciana\, que este año se celebra en el Palacio de Congreso del Colegio de Médicos de Alicante los días 18 y 19 de septiembre\, y analizará los derechos\, retos y amenazas de la Salud en la era digital\, junto a otros asuntos de candente actualidad. \nContaremos con las máximas autoridades locales\, autonómicas y nacionales en los actos de apertura y clausura\, y con más de 40 expertos que participarán en 8 mesas de debate: \n1. La Ley ELA en España: objetivos y principales retos \n2. Presente y futuro de los planes de Salud Mental y su impacto en los profesionales sanitarios \n3. Situación laboral de los Médicos en España. Derecho comparado \n4. Publicidad engañosa de productos sanitarios. Pseudoterapias: un riesgo para la salud en aumento \n5. Envejecimiento y salud digital: adaptación de las normas sanitarias a los retos de nuestro tiempo. \n6. Métodos alternativos de solución de controversias sanitarias \n7. La violencia en el sector de la salud: prevención\, aspectos educativos y legislación \n8. Sanidad y emergencias: necesidad de un marco legal actualizado. Protocolos y coordinación \nHemos diseñado dos jornadas de formación continua y networking con las que confiamos en renovar la Presidencia de Honor de SSMM Los Reyes de España\, la Declaración de Interés Sanitario de la Conselleria de Sanidad de la Generalitat Valenciana\, así como el Interés Científico de los Consejos Generales de Colegios Oficiales de Médicos y de Enfermería de España\, el Interés Técnico Profesional del Consejo General de la Psicología de España y del Col·legi Oficial de Psicologia de la Comunitat Valenciana. \nPor eso te pedimos que reserves ya en tu agenda los días del congreso\, que lo comentes con otros compañeros sanitarios o juristas\, y que hagas todo lo posible por volver a vernos en el VIII Congreso de Derecho Sanitario de la Comunidad Valenciana. \nUn cordial saludo\, \nCarlos Fornes.
URL:https://2025.congresoadscv.com/inicio
CATEGORIES:Congresos/Jornadas
ATTACH;FMTTYPE=image/jpeg:https://enfermeriasalamanca.com/wp-content/uploads/2025/08/8-congreso-derecho-sanitario.jpg
END:VEVENT
BEGIN:VEVENT
DTSTART;TZID=Europe/Madrid:20250927T080000
DTEND;TZID=Europe/Madrid:20250928T170000
DTSTAMP:20260423T041818
CREATED:20250805T121408Z
LAST-MODIFIED:20250805T121408Z
UID:103503-1758960000-1759078800@enfermeriasalamanca.com
SUMMARY:II Congreso Nacional Federación de Asociaciones de Personas Ostomizadas en España
DESCRIPTION:II Congreso Nacional Federación de Asociaciones de Personas Ostomizadas en España\n\n\n\n\nLa FAPOE es una Federación de asociaciones por lo que las personas a título individual no se pueden asociar a nosotros.  En la FAPOE no están todas las asociaciones de ostomizados que existen\, pero sí la gran mayoría. \n \nhttps://www.fapoe.com/
URL:https://www.fapoe.com/
CATEGORIES:Congresos/Jornadas
ATTACH;FMTTYPE=image/jpeg:https://enfermeriasalamanca.com/wp-content/uploads/2025/08/II-CONGRESO-NACIONAL-FAPOE.jpg
END:VEVENT
END:VCALENDAR