BEGIN:VCALENDAR
VERSION:2.0
PRODID:-//COLEGIO DE ENFERMERÍA DE SALAMANCA - ECPv6.15.17//NONSGML v1.0//EN
CALSCALE:GREGORIAN
METHOD:PUBLISH
X-ORIGINAL-URL:https://enfermeriasalamanca.com
X-WR-CALDESC:Eventos para COLEGIO DE ENFERMERÍA DE SALAMANCA
REFRESH-INTERVAL;VALUE=DURATION:PT1H
X-Robots-Tag:noindex
X-PUBLISHED-TTL:PT1H
BEGIN:VTIMEZONE
TZID:Europe/Madrid
BEGIN:DAYLIGHT
TZOFFSETFROM:+0100
TZOFFSETTO:+0200
TZNAME:CEST
DTSTART:20240331T010000
END:DAYLIGHT
BEGIN:STANDARD
TZOFFSETFROM:+0200
TZOFFSETTO:+0100
TZNAME:CET
DTSTART:20241027T010000
END:STANDARD
BEGIN:DAYLIGHT
TZOFFSETFROM:+0100
TZOFFSETTO:+0200
TZNAME:CEST
DTSTART:20250330T010000
END:DAYLIGHT
BEGIN:STANDARD
TZOFFSETFROM:+0200
TZOFFSETTO:+0100
TZNAME:CET
DTSTART:20251026T010000
END:STANDARD
BEGIN:DAYLIGHT
TZOFFSETFROM:+0100
TZOFFSETTO:+0200
TZNAME:CEST
DTSTART:20260329T010000
END:DAYLIGHT
BEGIN:STANDARD
TZOFFSETFROM:+0200
TZOFFSETTO:+0100
TZNAME:CET
DTSTART:20261025T010000
END:STANDARD
END:VTIMEZONE
BEGIN:VEVENT
DTSTART;VALUE=DATE:20250703
DTEND;VALUE=DATE:20250705
DTSTAMP:20260423T120357
CREATED:20250320T172337Z
LAST-MODIFIED:20250320T172337Z
UID:101957-1751500800-1751673599@enfermeriasalamanca.com
SUMMARY:XI Congreso Internacional en Contextos Clínicos y De La Salud
DESCRIPTION:XI Congreso Internacional en Contextos Clínicos y De La Salud\n\nUN AÑO MÁS\, TE DAMOS LA BIENVENIDA AL XI CICCS\n\nComo sabes\, la participación en congresos y la transferencia del conocimiento\, son aspectos fundamentales que nos permiten difundir nuestra actividad investigadora. Esta difusión\, a través de congresos y otras formas de intercambio de conocimiento: \n\n\nLibros\nCapítulos de libro\nArtículos\, etc.\n\n\nResalta nuestro compromiso con la apertura a la sociedad y la contribución al avance y la innovación en los distintos campos del conocimiento.
URL:https://ciccs.es/
CATEGORIES:Congresos/Jornadas
END:VEVENT
END:VCALENDAR