BEGIN:VCALENDAR
VERSION:2.0
PRODID:-//COLEGIO DE ENFERMERÍA DE SALAMANCA - ECPv6.15.17//NONSGML v1.0//EN
CALSCALE:GREGORIAN
METHOD:PUBLISH
X-ORIGINAL-URL:https://enfermeriasalamanca.com
X-WR-CALDESC:Eventos para COLEGIO DE ENFERMERÍA DE SALAMANCA
REFRESH-INTERVAL;VALUE=DURATION:PT1H
X-Robots-Tag:noindex
X-PUBLISHED-TTL:PT1H
BEGIN:VTIMEZONE
TZID:Europe/Madrid
BEGIN:DAYLIGHT
TZOFFSETFROM:+0100
TZOFFSETTO:+0200
TZNAME:CEST
DTSTART:20230326T010000
END:DAYLIGHT
BEGIN:STANDARD
TZOFFSETFROM:+0200
TZOFFSETTO:+0100
TZNAME:CET
DTSTART:20231029T010000
END:STANDARD
BEGIN:DAYLIGHT
TZOFFSETFROM:+0100
TZOFFSETTO:+0200
TZNAME:CEST
DTSTART:20240331T010000
END:DAYLIGHT
BEGIN:STANDARD
TZOFFSETFROM:+0200
TZOFFSETTO:+0100
TZNAME:CET
DTSTART:20241027T010000
END:STANDARD
BEGIN:DAYLIGHT
TZOFFSETFROM:+0100
TZOFFSETTO:+0200
TZNAME:CEST
DTSTART:20250330T010000
END:DAYLIGHT
BEGIN:STANDARD
TZOFFSETFROM:+0200
TZOFFSETTO:+0100
TZNAME:CET
DTSTART:20251026T010000
END:STANDARD
END:VTIMEZONE
BEGIN:VEVENT
DTSTART;VALUE=DATE:20241108
DTEND;VALUE=DATE:20241110
DTSTAMP:20260424T092153
CREATED:20240725T111807Z
LAST-MODIFIED:20240927T114540Z
UID:99214-1731024000-1731196799@enfermeriasalamanca.com
SUMMARY:XV Congreso Castellano y Leonés de Enfermería Urológica
DESCRIPTION:XV Congreso Castellano y Leonés de Enfermería Urológica\n \nOS COMUNICAMOS QUE NUESTRO CONGRESO REGIONAL SE CELEBRARÁ EN SALAMANCA LOS DÍAS 8 Y 9 DE NOVIEMBRE.\nYA ESTAMOS DISEÑANDO EL PROGRAMA \, BUSCANDO LOS TEMAS MÁS ACTUALES E INTERESANTES PARA NUESTRA PROFESIÓN\, ESPERANDO QUE OS RESULTE UNA GRAN EXPERIENCIA. 
URL:https://acyleu.es/congresos/xv-congreso-castellano-y-leones-de-enfermeria-urologica/
CATEGORIES:Congresos/Jornadas
ATTACH;FMTTYPE=image/png:https://enfermeriasalamanca.com/wp-content/uploads/2024/07/xv-congreso-cyl-enfermeria-urgologica.png
END:VEVENT
BEGIN:VEVENT
DTSTART;VALUE=DATE:20241108
DTEND;VALUE=DATE:20241110
DTSTAMP:20260424T092153
CREATED:20241030T112009Z
LAST-MODIFIED:20241030T112009Z
UID:100033-1731024000-1731196799@enfermeriasalamanca.com
SUMMARY:XV Congreso Castellano y Leonés de Enfermería Urológica
DESCRIPTION:XV Congreso Castellano y Leonés de Enfermería Urológica \nQuerid@s amig@s: \nEstamos muy felices de comunicaros que el XV Congreso Castellano y Leonés de Enfermería en Urología se celebrará en la ciudad de Salamanca durante los días 8 y 9 de noviembre de 2024. \nEsta edición tiene una especial importancia\, puesto que cumpliremos los quince años desde que iniciamos esta andadura. Recohttps://acyleu.es/congresos/xv-congreso-castellano-y-leones-de-enfermeria-urologica/rdamos aquellas primeras Sesiones de Trabajo en 2009\, cómo hemos ido evolucionando desde entonces hasta consolidar la Jornada Castellano y Leonesa de Enfermería en Urología que este año se convierte en Congreso como forma más completa de reunión científica. \nXV Congreso Castellano y Leonés de Enfermería Urológica. Salamanca 2024
URL:https://acyleu.es/congresos/xv-congreso-castellano-y-leones-de-enfermeria-urologica/
CATEGORIES:Congresos/Jornadas
ATTACH;FMTTYPE=image/png:https://enfermeriasalamanca.com/wp-content/uploads/2024/10/xv-congreso-cyl-enfermeria-urgologica.png
END:VEVENT
BEGIN:VEVENT
DTSTART;VALUE=DATE:20241113
DTEND;VALUE=DATE:20241116
DTSTAMP:20260424T092153
CREATED:20240115T183623Z
LAST-MODIFIED:20240927T114548Z
UID:96070-1731456000-1731715199@enfermeriasalamanca.com
SUMMARY:XXVIII Encuentro Internacional de Investigación en Cuidados
DESCRIPTION:XXVIII Encuentro Internacional de Investigación en Cuidados\n28th International Nursing Research Conference\n____________________________________________________\n\nVI Jornada Internacional de Doctorandos\n\n6th International Doctoral Network\n\n \nDel ​13 al 15 de Noviembre de 2024\nNovember 13th to 15th 2024\nCongreso bilingüe con traducción simultánea\nConference with simultaneous translation
URL:https://www.isciii.es/QuienesSomos/CentrosPropios/INVESTEN/Paginas/Encuentros.aspx
CATEGORIES:Congresos/Jornadas
ATTACH;FMTTYPE=image/jpeg:https://enfermeriasalamanca.com/wp-content/uploads/2024/01/xxviii-investigacion-en-cuidados.jpg
END:VEVENT
BEGIN:VEVENT
DTSTART;VALUE=DATE:20241114
DTEND;VALUE=DATE:20241117
DTSTAMP:20260424T092153
CREATED:20240410T155945Z
LAST-MODIFIED:20240927T114605Z
UID:97649-1731542400-1731801599@enfermeriasalamanca.com
SUMMARY:XXI Congreso Nacional de la Sociedad Española de Enfermeria Radiologica SEER
DESCRIPTION:INTELIGENCIA ARTIFICIAL (IA): ¿ALIADA O RIVAL? \nXXI Congreso Nacional de la SEER\n\n\n\n14 al 16 de noviembre de 2024.\nVitoria – Gasteiz\n\n\n\n\n\n\n\n\n\n\n\n\nEstimada/o compañera/o \nMe es grato comunicaros la celebración del XXI Congreso Nacional de la Sociedad Española de Enfermería Radiológica (SEER)\, que tendrá lugar los días 14\, 15 y 16 de noviembre del 2024\, en la ciudad de Vitoria – Gasteiz\, bajo el lema:\n“Inteligencia Artificial (IA): ¿Aliada o rival? \nSi el congreso anterior estuvo relacionado con el esfuerzo enfermero y la Resiliencia tras la pandemia del COVID-19\, en la presente edición hemos elegido un tema de gran actualidad como es el de la Inteligencia Artificial\, esperando obtener información\, orientación y promover el debate en nuestro camino profesional llevado a cabo tanto en la actualidad como en un futuro muy cercano. \nLa Enfermería Radiológica y sus ámbitos de interés como son Radioterapia Oncológica y Braquiterapia\, Medicina Nuclear y Terapia Metabólica\, Diagnóstico y Tratamiento por la Imagen y Radiología Vascular Intervencionista no son ajenos al interés que puede despertar el entorno de la Inteligencia Artificial\, así como sus aspectos positivos\, pero sin dejar de tener en cuenta las incertidumbres que paralelamente conlleva. \nLos miembros de los Comités Científico y Organizador han trazado para este congreso varios objetivos con la esperanza de mejorar\, y con el optimismo de que el interés generalizado constituya un éxito\, a pesar de las exigencias\, cambios y limitaciones en muchas de las actividades y prácticas habituales que lleva a cabo la enfermera. No obstante y tal y como recoge el lema del congreso ello ha supuesto un reto frente a situaciones imprevisibles\, constituyendo  un esfuerzo de la enfermería por adaptarse en la aplicación de los cuidados de enfermería\, esencia de su presencia\, con funciones y competencias específicas. \nAsimismo nos hemos propuesto diseñar un programa tanto científico como social esperando que sea de vuestro agrado\, agradeciendo que hagáis una máxima difusión en las diferentes áreas en las que desarrollamos nuestra actividad profesional\, para de esta forma posibilitar una mayor presencia de profesionales con la finalidad de compartir experiencias y contenidos científicos propiciando nuestro crecimiento profesional y humano. \nSomos optimistas respecto al éxito de este próximo evento que sin duda ha de enriquecer nuestra proyección de futuro profesional a través de la capacitación y una adecuada puesta en común de nuestras comunicaciones y reflexiones en los diferentes ámbitos en los que nos encontramos\, posibilitando una mayor aportación de ideas que sin duda han de contribuir\, constituyendo un estímulo para nuestra práctica diaria. \nPor todo ello\, es un agradable placer tanto para los integrantes de los comités organizador como científico y secretaría técnica OPC (Azul Congresos)\, así como todas las personas que participan en la organización de éste Congreso el poder daros la bienvenida a éste XXI Congreso de la Sociedad Española de Enfermería Radiológica. \nSaludos cordiales \nAntonio Hernández Martínez \nPresidente SEER \nPresidente Comité Organizador 2024
URL:https://2024.congresoseer.com/
CATEGORIES:Congresos/Jornadas
ATTACH;FMTTYPE=image/jpeg:https://enfermeriasalamanca.com/wp-content/uploads/2024/04/XXI_congreso_SEER.jpg
END:VEVENT
BEGIN:VEVENT
DTSTART;VALUE=DATE:20241120
DTEND;VALUE=DATE:20241121
DTSTAMP:20260424T092153
CREATED:20241106T101619Z
LAST-MODIFIED:20241106T101619Z
UID:100313-1732060800-1732147199@enfermeriasalamanca.com
SUMMARY:VI Seminario de Profesorado de Enfermería Pediátrica
DESCRIPTION:BIENVENIDA\nLa Asociación Española de Enfermería Pediátrica (AEEP) tiene el placer de daros la bienvenida a su VI Seminario de Profesorado de Enfermería Pediátrica y VIII Encuentro Nacional de Tutores y Residentes en Enfermería Pediátrica en la ciudad de Alcalá de Henares\, el día 20 de noviembre\, Día Internacional de la Infancia. \nCon el planteamiento tanto en el seminario del profesorado de Enfermería Pediátrica como en el Encuentro de tutores y residentes en Enfermería Pediátrica de proporcionar un espacio de encuentro para el intercambio de conocimientos profesionales e innovaciones docentes\, debatir sobre los retos que nos preocupan y las propuestas de futuro\, que nos hagan avanzar en el modelo de enfermería pediátrica que demandamos. \n¡Os esperamos¡¡¡\nEl Comité Organizador
URL:https://congresosalcala.fgua.es/jornadaenfermeria20n/
CATEGORIES:Congresos/Jornadas
ATTACH;FMTTYPE=image/jpeg:https://enfermeriasalamanca.com/wp-content/uploads/2024/11/vi-seminario-enfermeria-pediatrica.jpg
END:VEVENT
BEGIN:VEVENT
DTSTART;VALUE=DATE:20241120
DTEND;VALUE=DATE:20241123
DTSTAMP:20260424T092153
CREATED:20240202T112107Z
LAST-MODIFIED:20240927T114614Z
UID:96505-1732060800-1732319999@enfermeriasalamanca.com
SUMMARY:XXXI Congreso Nacional de la Sociedad Española de Enfermeria Neurológica
DESCRIPTION:
URL:https://sedene.com/congreso-sedene-2024/
CATEGORIES:Congresos/Jornadas
ATTACH;FMTTYPE=image/png:https://enfermeriasalamanca.com/wp-content/uploads/2024/02/SEDENE-2024.png
END:VEVENT
BEGIN:VEVENT
DTSTART;VALUE=DATE:20241122
DTEND;VALUE=DATE:20241124
DTSTAMP:20260424T092153
CREATED:20240312T162038Z
LAST-MODIFIED:20240927T114622Z
UID:97157-1732233600-1732406399@enfermeriasalamanca.com
SUMMARY:VII Congreso Nacional del Consejo Español de RCP
DESCRIPTION:
URL:https://congreso.cercp.org/
CATEGORIES:Congresos/Jornadas
ATTACH;FMTTYPE=image/png:https://enfermeriasalamanca.com/wp-content/uploads/2024/03/VII_Congreso_Nacional_del_Consejo_Espanol_de_RCP.png
END:VEVENT
BEGIN:VEVENT
DTSTART;VALUE=DATE:20241127
DTEND;VALUE=DATE:20241129
DTSTAMP:20260424T092153
CREATED:20240726T114049Z
LAST-MODIFIED:20240927T105033Z
UID:99235-1732665600-1732838399@enfermeriasalamanca.com
SUMMARY:XI Congreso de SEMAP
DESCRIPTION:Abierto el plazo para presentar las comunicaciones para el XI Congreso SEMAP\nDesde el 3 de junio ya está abierto el plazo para presentar las comunicaciones para el XI Congreso SEMAP\, que bajo el lema “Sumando cuidados\, multiplicando bienestar. El valor añadido de la Enfermera Familiar y Comunitaria” celebraremos los días 27 y 28 de noviembre en el Hospital Universitario Clínico San Carlos. \nLa fecha límite para envío de resúmenes será el 7 septiembre 2024 \nEl Comité Científico comunicará a los autores la aceptación o no de las comunicaciones\, así como el formato aceptado entes del 15 de octubre. \nPulsa aquí para descargar las normas de presentación \nPulsa aquí para acceder a la plataforma para enviar tus trabajos.
URL:https://semap.org/eventos-y-congresos/
CATEGORIES:Congresos/Jornadas
ATTACH;FMTTYPE=image/jpeg:https://enfermeriasalamanca.com/wp-content/uploads/2024/07/XI-Congreso-de-SEMAP.jpg
END:VEVENT
BEGIN:VEVENT
DTSTART;VALUE=DATE:20241129
DTEND;VALUE=DATE:20241201
DTSTAMP:20260424T092153
CREATED:20240718T115122Z
LAST-MODIFIED:20240927T114638Z
UID:99132-1732838400-1733011199@enfermeriasalamanca.com
SUMMARY:III Congreso Internacional "Las Edades de las Heridas: acta non verba"
DESCRIPTION:Querid@s compañer@s enamorados del mundo de las Heridas. \nEn nombre de eSalúdate\, de su cuadro académico y en el mío propio\, os doy la bienvenida al III Congreso Internacional “Las Edades de las Heridas: acta non verba”\, desearos que disfrutéis estos días en Mérida\, aprendáis mucho y compartamos inquietudes sobre este apasionante mundo del cuidado de las Heridas\, teniendo siempre como objetivo la mejora del bienestar de nuestros pacientes\, acortar en la medida de lo posible el tiempo de curación basándonos en la ciencia y hacerlo con acciones o hechos\, no palabras\, pues vamos muy sobrados de proyectos y nos faltan hechos. \nEste Congreso surge después del éxito de los 2 Congresos celebrados estos años en Plasencia y en Cáceres\, de la satisfacción de todos los que acudisteis\, de vuestras peticiones y de nuestro deseo de seguir avanzando mostrando todos los avances en el cuidado de las heridas.
URL:https://heridas.es/2024/
CATEGORIES:Congresos/Jornadas
ATTACH;FMTTYPE=image/png:https://enfermeriasalamanca.com/wp-content/uploads/2024/07/III-Congreso-Internacional-Las-Edades-de-las-heridas.png
END:VEVENT
END:VCALENDAR