BEGIN:VCALENDAR
VERSION:2.0
PRODID:-//COLEGIO DE ENFERMERÍA DE SALAMANCA - ECPv6.15.17//NONSGML v1.0//EN
CALSCALE:GREGORIAN
METHOD:PUBLISH
X-ORIGINAL-URL:https://enfermeriasalamanca.com
X-WR-CALDESC:Eventos para COLEGIO DE ENFERMERÍA DE SALAMANCA
REFRESH-INTERVAL;VALUE=DURATION:PT1H
X-Robots-Tag:noindex
X-PUBLISHED-TTL:PT1H
BEGIN:VTIMEZONE
TZID:Europe/Madrid
BEGIN:DAYLIGHT
TZOFFSETFROM:+0100
TZOFFSETTO:+0200
TZNAME:CEST
DTSTART:20230326T010000
END:DAYLIGHT
BEGIN:STANDARD
TZOFFSETFROM:+0200
TZOFFSETTO:+0100
TZNAME:CET
DTSTART:20231029T010000
END:STANDARD
BEGIN:DAYLIGHT
TZOFFSETFROM:+0100
TZOFFSETTO:+0200
TZNAME:CEST
DTSTART:20240331T010000
END:DAYLIGHT
BEGIN:STANDARD
TZOFFSETFROM:+0200
TZOFFSETTO:+0100
TZNAME:CET
DTSTART:20241027T010000
END:STANDARD
BEGIN:DAYLIGHT
TZOFFSETFROM:+0100
TZOFFSETTO:+0200
TZNAME:CEST
DTSTART:20250330T010000
END:DAYLIGHT
BEGIN:STANDARD
TZOFFSETFROM:+0200
TZOFFSETTO:+0100
TZNAME:CET
DTSTART:20251026T010000
END:STANDARD
END:VTIMEZONE
BEGIN:VEVENT
DTSTART;VALUE=DATE:20240919
DTEND;VALUE=DATE:20240921
DTSTAMP:20260424T121003
CREATED:20240904T085837Z
LAST-MODIFIED:20240927T113458Z
UID:99527-1726704000-1726876799@enfermeriasalamanca.com
SUMMARY:VII Congreso Nacional de Enfermería y Salud
DESCRIPTION:AUDITORIO DE GALICIA : PLENARIO CONGRESUAL\nFACULTAD DE ENFERMERIA DE LA USC: DEFENSA DE COMUNICACIONES / TALLERES PRECONGRESUALES\n\n\nSANTIAGO DECOMPOSTELA – A CORUÑA -GALICIA\n\n\nAv. do Burgo das Nacións\, 15704 Santiago de Compostela\, A Coruña
URL:https://enfermeriaysalud.es/congreso/
CATEGORIES:Congresos/Jornadas
ATTACH;FMTTYPE=image/png:https://enfermeriasalamanca.com/wp-content/uploads/2024/09/VII-CONGRESO-ENFERMERIA-Y-SALUD.png
END:VEVENT
BEGIN:VEVENT
DTSTART;TZID=Europe/Madrid:20240926T080000
DTEND;TZID=Europe/Madrid:20240926T170000
DTSTAMP:20260424T121003
CREATED:20240926T104511Z
LAST-MODIFIED:20240927T113920Z
UID:99708-1727337600-1727370000@enfermeriasalamanca.com
SUMMARY:VIII CONGRESO NACIONAL SEFSE
DESCRIPTION:PRESENTACIÓN\nEstimados compañeros\,\nAdiskide agurgarriak\, \nQueremos presentaros el VIII Congreso Nacional de SEFSE que se celebrará en el recinto hospitalario y universitario de Navarra entre los días 23 y 25 de octubre de 2024. Al mismo tiempo\, celebraremos el XX Aniversario de la Fundación AReDA\, el XX Encuentro de Tutores y Jefes de Estudios y el I Encuentro de Residentes. \nLos Comités Organizador y Científico\, así como la Junta Directiva\, estamos muy ilusionados por preparar un congreso abierto bajo el lema de “Formación\, Humanismo e Inteligencia Artificial”\, un evento para formarnos en todas las áreas competenciales de nuestra labor docente en la Formación Sanitaria Especializada. \nEn este congreso desarrollaremos actividades formativas y comunicativas presenciales en mesas\, talleres\, foros\, comunicaciones orales y póster. Contaremos con el paciente ilustre D. Juan Carlos Unzué Labiano para la Conferencia Inaugural y con D. Nicanor Humberto Bustince Sola para la de Clausura. \nEl congreso se celebrará en el recinto del Hospital Universitario de Navarra (HUN) de Pamplona\, como sede principal\, junto con las instalaciones del Departamento de Salud\, Navarrabiomed-IdisNA\, y de los recintos universitarios de la UPNA y de la UNAV. \nOs invitamos a participar en el VIII Congreso Nacional de SEFSE organizado con el objetivo de continuar FORMÁNDONOS CON CALIDAD e impulsar a nuestros Residentes en este proceso para lograr una atención asistencial de calidad y equidad\, alineados con el modelo de transformación digital que a día de hoy se demanda. \n¡Os esperamos en Pamplona!\nZuen zain gaude Iruñean.
URL:https://geyseco.es/sefse24/index.php?go=inicio
CATEGORIES:Congresos/Jornadas
ATTACH;FMTTYPE=image/jpeg:https://enfermeriasalamanca.com/wp-content/uploads/2024/09/VIII-CONGRESO-NACIONAL-SEFSE.jpg
END:VEVENT
BEGIN:VEVENT
DTSTART;VALUE=DATE:20240928
DTEND;VALUE=DATE:20240930
DTSTAMP:20260424T121003
CREATED:20240718T120746Z
LAST-MODIFIED:20240927T114315Z
UID:99138-1727481600-1727654399@enfermeriasalamanca.com
SUMMARY:XIII Jornadas Estilos de Vida Saludables de Zaragoza
DESCRIPTION:
URL:https://enfermeriasalamanca.com/calendariosalamanca/xiii-jornadas-estilos-de-vida-saludables-de-zaragoza/
CATEGORIES:Congresos/Jornadas
ATTACH;FMTTYPE=image/png:https://enfermeriasalamanca.com/wp-content/uploads/2024/07/XIII-Jornadas-Estilos-de-Vida-Saludables-de-Zaragoza.png
END:VEVENT
END:VCALENDAR